BEGIN:VCALENDAR
VERSION:2.0
PRODID:-//EPIC Emerging &amp; Pandemic Infections Consortium - ECPv6.15.11//NONSGML v1.0//EN
CALSCALE:GREGORIAN
METHOD:PUBLISH
X-WR-CALNAME:EPIC Emerging &amp; Pandemic Infections Consortium
X-ORIGINAL-URL:https://epic.utoronto.ca
X-WR-CALDESC:Events for EPIC Emerging &amp; Pandemic Infections Consortium
REFRESH-INTERVAL;VALUE=DURATION:PT1H
X-Robots-Tag:noindex
X-PUBLISHED-TTL:PT1H
BEGIN:VTIMEZONE
TZID:America/Toronto
BEGIN:DAYLIGHT
TZOFFSETFROM:-0500
TZOFFSETTO:-0400
TZNAME:EDT
DTSTART:20230312T070000
END:DAYLIGHT
BEGIN:STANDARD
TZOFFSETFROM:-0400
TZOFFSETTO:-0500
TZNAME:EST
DTSTART:20231105T060000
END:STANDARD
BEGIN:DAYLIGHT
TZOFFSETFROM:-0500
TZOFFSETTO:-0400
TZNAME:EDT
DTSTART:20240310T070000
END:DAYLIGHT
BEGIN:STANDARD
TZOFFSETFROM:-0400
TZOFFSETTO:-0500
TZNAME:EST
DTSTART:20241103T060000
END:STANDARD
BEGIN:DAYLIGHT
TZOFFSETFROM:-0500
TZOFFSETTO:-0400
TZNAME:EDT
DTSTART:20250309T070000
END:DAYLIGHT
BEGIN:STANDARD
TZOFFSETFROM:-0400
TZOFFSETTO:-0500
TZNAME:EST
DTSTART:20251102T060000
END:STANDARD
END:VTIMEZONE
BEGIN:VEVENT
DTSTART;TZID=America/Toronto:20240516T130000
DTEND;TZID=America/Toronto:20240516T140000
DTSTAMP:20260414T235404
CREATED:20240514T183504Z
LAST-MODIFIED:20240514T183920Z
UID:4626-1715864400-1715868000@epic.utoronto.ca
SUMMARY:Imaging and engineering cytokine signalling
DESCRIPTION:Nathanael Caveney (University of British Columbia) presents as part of a Department of Pharmacology and Toxicology special seminar.
URL:https://epic.utoronto.ca/event/imaging-and-engineering-cytokine-signalling/
LOCATION:Medical Sciences Building\, Room 2172\, 1 King’s College Circle\, Room 2172\, Toronto\, ON\, M5S 1A8\, Canada
CATEGORIES:In-person,Seminar
END:VEVENT
END:VCALENDAR