BEGIN:VCALENDAR
VERSION:2.0
PRODID:-//EPIC Emerging &amp; Pandemic Infections Consortium - ECPv6.15.11//NONSGML v1.0//EN
CALSCALE:GREGORIAN
METHOD:PUBLISH
X-WR-CALNAME:EPIC Emerging &amp; Pandemic Infections Consortium
X-ORIGINAL-URL:https://epic.utoronto.ca
X-WR-CALDESC:Events for EPIC Emerging &amp; Pandemic Infections Consortium
REFRESH-INTERVAL;VALUE=DURATION:PT1H
X-Robots-Tag:noindex
X-PUBLISHED-TTL:PT1H
BEGIN:VTIMEZONE
TZID:America/Toronto
BEGIN:DAYLIGHT
TZOFFSETFROM:-0500
TZOFFSETTO:-0400
TZNAME:EDT
DTSTART:20240310T070000
END:DAYLIGHT
BEGIN:STANDARD
TZOFFSETFROM:-0400
TZOFFSETTO:-0500
TZNAME:EST
DTSTART:20241103T060000
END:STANDARD
BEGIN:DAYLIGHT
TZOFFSETFROM:-0500
TZOFFSETTO:-0400
TZNAME:EDT
DTSTART:20250309T070000
END:DAYLIGHT
BEGIN:STANDARD
TZOFFSETFROM:-0400
TZOFFSETTO:-0500
TZNAME:EST
DTSTART:20251102T060000
END:STANDARD
BEGIN:DAYLIGHT
TZOFFSETFROM:-0500
TZOFFSETTO:-0400
TZNAME:EDT
DTSTART:20260308T070000
END:DAYLIGHT
BEGIN:STANDARD
TZOFFSETFROM:-0400
TZOFFSETTO:-0500
TZNAME:EST
DTSTART:20261101T060000
END:STANDARD
END:VTIMEZONE
BEGIN:VEVENT
DTSTART;TZID=America/Toronto:20250930T110000
DTEND;TZID=America/Toronto:20250930T123000
DTSTAMP:20260417T170256
CREATED:20250919T170307Z
LAST-MODIFIED:20250919T170338Z
UID:6543-1759230000-1759235400@epic.utoronto.ca
SUMMARY:Indigenous Perspectives & Research In AMR
DESCRIPTION:The Canadian Antimicrobial Resistance Network (CAN-AMR-Net) is a national health research training platform\, from the University of Calgary\, which approaches antimicrobial use and resistance through a One Health lens. \nThis year\, CAN-AMR-Net will be hosting a 10-part seminar series titled “Antimicrobial Resistance: A One Health Approach” which aims to bring together experts from many disciplines to explore AMR issues\, enhance trans-disciplinary training\, and offer practical strategies to combat AMR through a One Health perspective. \nA certificate of participation in the series is available for attendees of all 10 sessions. \nThis seminar series is free to attend (though donations are encouraged). Sessions are not recorded. \nRegister through Eventbrite to attend. \nSession 1 Information: \nTitle: Indigenous Perspectives & Research In AMR \nWhen: 11:00 a.m. – 12:30 p.m. \nWhere: Zoom link provided upon registration \nSpeakers: \n\nMalcolm King\, Professor of Community Health and Epidemiology\, University of Saskatchewan\nAyush Kumar\, Professor and Associate Dean of the Faculty of Science\, University of Manitoba\nEkua Agyemang\, Acting Chief Public Health Officer\, Department of Health\, Government of Nunavut
URL:https://epic.utoronto.ca/event/indigenous-perspectives-research-in-amr/
LOCATION:Virtual on Zoom
CATEGORIES:Seminar,Virtual
END:VEVENT
END:VCALENDAR