BEGIN:VCALENDAR
VERSION:2.0
PRODID:-//EPIC Emerging &amp; Pandemic Infections Consortium - ECPv6.15.11//NONSGML v1.0//EN
CALSCALE:GREGORIAN
METHOD:PUBLISH
X-WR-CALNAME:EPIC Emerging &amp; Pandemic Infections Consortium
X-ORIGINAL-URL:https://epic.utoronto.ca
X-WR-CALDESC:Events for EPIC Emerging &amp; Pandemic Infections Consortium
REFRESH-INTERVAL;VALUE=DURATION:PT1H
X-Robots-Tag:noindex
X-PUBLISHED-TTL:PT1H
BEGIN:VTIMEZONE
TZID:America/Toronto
BEGIN:DAYLIGHT
TZOFFSETFROM:-0500
TZOFFSETTO:-0400
TZNAME:EDT
DTSTART:20230312T070000
END:DAYLIGHT
BEGIN:STANDARD
TZOFFSETFROM:-0400
TZOFFSETTO:-0500
TZNAME:EST
DTSTART:20231105T060000
END:STANDARD
BEGIN:DAYLIGHT
TZOFFSETFROM:-0500
TZOFFSETTO:-0400
TZNAME:EDT
DTSTART:20240310T070000
END:DAYLIGHT
BEGIN:STANDARD
TZOFFSETFROM:-0400
TZOFFSETTO:-0500
TZNAME:EST
DTSTART:20241103T060000
END:STANDARD
BEGIN:DAYLIGHT
TZOFFSETFROM:-0500
TZOFFSETTO:-0400
TZNAME:EDT
DTSTART:20250309T070000
END:DAYLIGHT
BEGIN:STANDARD
TZOFFSETFROM:-0400
TZOFFSETTO:-0500
TZNAME:EST
DTSTART:20251102T060000
END:STANDARD
END:VTIMEZONE
BEGIN:VEVENT
DTSTART;TZID=America/Toronto:20240910T110000
DTEND;TZID=America/Toronto:20240910T140000
DTSTAMP:20260417T161609
CREATED:20240815T163721Z
LAST-MODIFIED:20240815T163721Z
UID:4905-1725966000-1725976800@epic.utoronto.ca
SUMMARY:Lunch & Learn: Bruker Life Sciences Mass Spectrometry
DESCRIPTION:The Lunenfeld-Tanenbaum Research Institute is hosting a lunch and learn for anyone interested in learning about the latest advances in MALDI imaging and 4D proteomics and how you too can advance your research with these technologies. \nAgenda \n11:15 am – Introduction & opening remarks\n11:30 am – Redefining spatial biology with MALDI imaging\, Kate Stumpo\, Ph.D.\, Bruker\n12:15 pm – Lunch\n12:45 pm – Diving into space: Deciphering disease states in lung tissue\, Dr. Brendon Seale\, Scientific Manager of NBCC Proteomics Facility\, Presenting for Jiaxi Peng\, postdoctoral fellow of Dr. Anne-Claude Gingras’ lab\n1:05 pm – ASMS 2024 – 4D Proteomics Update De-risking Discovery\, Shourjo Ghose\, Ph.D.\, Bruker\n1:30 pm – Closing remarks & conclusion \nFind out more here. RSVP to michel.boisvert@bruker.com
URL:https://epic.utoronto.ca/event/lunch-learn-bruker-life-sciences-mass-spectrometry/
LOCATION:60 Murray Street\, Room L3-201-202-203\, 60 Murray Street\, Toronto
CATEGORIES:In-person,Workshop
END:VEVENT
END:VCALENDAR