BEGIN:VCALENDAR
VERSION:2.0
PRODID:-//EPIC Emerging &amp; Pandemic Infections Consortium - ECPv6.15.11//NONSGML v1.0//EN
CALSCALE:GREGORIAN
METHOD:PUBLISH
X-WR-CALNAME:EPIC Emerging &amp; Pandemic Infections Consortium
X-ORIGINAL-URL:https://epic.utoronto.ca
X-WR-CALDESC:Events for EPIC Emerging &amp; Pandemic Infections Consortium
REFRESH-INTERVAL;VALUE=DURATION:PT1H
X-Robots-Tag:noindex
X-PUBLISHED-TTL:PT1H
BEGIN:VTIMEZONE
TZID:America/Toronto
BEGIN:DAYLIGHT
TZOFFSETFROM:-0500
TZOFFSETTO:-0400
TZNAME:EDT
DTSTART:20220313T070000
END:DAYLIGHT
BEGIN:STANDARD
TZOFFSETFROM:-0400
TZOFFSETTO:-0500
TZNAME:EST
DTSTART:20221106T060000
END:STANDARD
BEGIN:DAYLIGHT
TZOFFSETFROM:-0500
TZOFFSETTO:-0400
TZNAME:EDT
DTSTART:20230312T070000
END:DAYLIGHT
BEGIN:STANDARD
TZOFFSETFROM:-0400
TZOFFSETTO:-0500
TZNAME:EST
DTSTART:20231105T060000
END:STANDARD
BEGIN:DAYLIGHT
TZOFFSETFROM:-0500
TZOFFSETTO:-0400
TZNAME:EDT
DTSTART:20240310T070000
END:DAYLIGHT
BEGIN:STANDARD
TZOFFSETFROM:-0400
TZOFFSETTO:-0500
TZNAME:EST
DTSTART:20241103T060000
END:STANDARD
END:VTIMEZONE
BEGIN:VEVENT
DTSTART;TZID=America/Toronto:20231129T140000
DTEND;TZID=America/Toronto:20231129T153000
DTSTAMP:20260420T234136
CREATED:20231102T153611Z
LAST-MODIFIED:20231102T153714Z
UID:3590-1701266400-1701271800@epic.utoronto.ca
SUMMARY:Webinar on Streptococcus zooepidemicus
DESCRIPTION:The Swine Health Information Center and American Association of Swine Veterinarians will be hosting a webinar on Streptococcus zooepidemicus with experts from both Canada and the USA. \nSpeakers and topics: \n\nClinical picture and descriptions of Canadian outbreaks: Frank Marshall\, Marshall Swine and Poultry\, Camrose\, Alberta\nLaboratory submissions\, directions to practitioners\, and background: Matheus de Oliveira Costa\, University of Saskatchewan\nGenetic analyses/diversity of US strains causing outbreaks: Ganwu Li\, Iowa State University\nZoonotic potential\, caveats and outcomes: Mike Neafsey\, USDA Animal and Plant Health Inspection Service\n\nPlease register on Zoom to attend.
URL:https://epic.utoronto.ca/event/webinar-on-streptococcus-zooepidemicus/
LOCATION:Zoom
CATEGORIES:Virtual,Webinar
END:VEVENT
END:VCALENDAR