BEGIN:VCALENDAR
VERSION:2.0
PRODID:-//EPIC Emerging &amp; Pandemic Infections Consortium - ECPv6.15.11//NONSGML v1.0//EN
CALSCALE:GREGORIAN
METHOD:PUBLISH
X-ORIGINAL-URL:https://epic.utoronto.ca
X-WR-CALDESC:Events for EPIC Emerging &amp; Pandemic Infections Consortium
REFRESH-INTERVAL;VALUE=DURATION:PT1H
X-Robots-Tag:noindex
X-PUBLISHED-TTL:PT1H
BEGIN:VTIMEZONE
TZID:America/Toronto
BEGIN:DAYLIGHT
TZOFFSETFROM:-0500
TZOFFSETTO:-0400
TZNAME:EDT
DTSTART:20230312T070000
END:DAYLIGHT
BEGIN:STANDARD
TZOFFSETFROM:-0400
TZOFFSETTO:-0500
TZNAME:EST
DTSTART:20231105T060000
END:STANDARD
BEGIN:DAYLIGHT
TZOFFSETFROM:-0500
TZOFFSETTO:-0400
TZNAME:EDT
DTSTART:20240310T070000
END:DAYLIGHT
BEGIN:STANDARD
TZOFFSETFROM:-0400
TZOFFSETTO:-0500
TZNAME:EST
DTSTART:20241103T060000
END:STANDARD
BEGIN:DAYLIGHT
TZOFFSETFROM:-0500
TZOFFSETTO:-0400
TZNAME:EDT
DTSTART:20250309T070000
END:DAYLIGHT
BEGIN:STANDARD
TZOFFSETFROM:-0400
TZOFFSETTO:-0500
TZNAME:EST
DTSTART:20251102T060000
END:STANDARD
END:VTIMEZONE
BEGIN:VEVENT
DTSTART;TZID=America/Toronto:20240129T110000
DTEND;TZID=America/Toronto:20240129T120000
DTSTAMP:20260421T222324
CREATED:20231212T203159Z
LAST-MODIFIED:20231212T203159Z
UID:3777-1706526000-1706529600@epic.utoronto.ca
SUMMARY:Immune-stromal interactions that promote disease tolerance during intestinal infection
DESCRIPTION:EPIC member Arthur Mortha hosts Irah King (McGill University) as part of the Department of Immunology’s Easton Seminar Series.
URL:https://epic.utoronto.ca/event/immune-stromal-interactions-that-promote-disease-tolerance-during-intestinal-infection/
LOCATION:Medical Sciences Building\, Room 2170\, 1 King’s College Circle\, Room 2170\, Toronto\, ON\, M5S 1A8\, Canada
CATEGORIES:In-person,Seminar
END:VEVENT
BEGIN:VEVENT
DTSTART;TZID=America/Toronto:20240129T150000
DTEND;TZID=America/Toronto:20240129T160000
DTSTAMP:20260421T222324
CREATED:20240103T200958Z
LAST-MODIFIED:20240109T213137Z
UID:3882-1706540400-1706544000@epic.utoronto.ca
SUMMARY:Redrawing borders: The model-based optimization of molecular clusters
DESCRIPTION:EPIC member Artem Babaian hosts Art Poon (Western University) as part of the Department of Molecular Genetics Colloquium MMG1003H: Winter 2024 Seminar Series. \nThe seminar is open to faculty and trainees who are not affiliated with the Department of Molecular Genetics.
URL:https://epic.utoronto.ca/event/molecular-genetics-colloquium-mmg1003h-virus-evolution/
LOCATION:Medical Sciences Building\, Room 3153\, 1 King’s College Circle\, Room 3153\, Toronto\, ON\, M5S 1A8\, Canada
CATEGORIES:In-person,Seminar
END:VEVENT
END:VCALENDAR