BEGIN:VCALENDAR
VERSION:2.0
PRODID:-//EPIC Emerging &amp; Pandemic Infections Consortium - ECPv6.15.11//NONSGML v1.0//EN
CALSCALE:GREGORIAN
METHOD:PUBLISH
X-WR-CALNAME:EPIC Emerging &amp; Pandemic Infections Consortium
X-ORIGINAL-URL:https://epic.utoronto.ca
X-WR-CALDESC:Events for EPIC Emerging &amp; Pandemic Infections Consortium
REFRESH-INTERVAL;VALUE=DURATION:PT1H
X-Robots-Tag:noindex
X-PUBLISHED-TTL:PT1H
BEGIN:VTIMEZONE
TZID:America/Toronto
BEGIN:DAYLIGHT
TZOFFSETFROM:-0500
TZOFFSETTO:-0400
TZNAME:EDT
DTSTART:20230312T070000
END:DAYLIGHT
BEGIN:STANDARD
TZOFFSETFROM:-0400
TZOFFSETTO:-0500
TZNAME:EST
DTSTART:20231105T060000
END:STANDARD
BEGIN:DAYLIGHT
TZOFFSETFROM:-0500
TZOFFSETTO:-0400
TZNAME:EDT
DTSTART:20240310T070000
END:DAYLIGHT
BEGIN:STANDARD
TZOFFSETFROM:-0400
TZOFFSETTO:-0500
TZNAME:EST
DTSTART:20241103T060000
END:STANDARD
BEGIN:DAYLIGHT
TZOFFSETFROM:-0500
TZOFFSETTO:-0400
TZNAME:EDT
DTSTART:20250309T070000
END:DAYLIGHT
BEGIN:STANDARD
TZOFFSETFROM:-0400
TZOFFSETTO:-0500
TZNAME:EST
DTSTART:20251102T060000
END:STANDARD
END:VTIMEZONE
BEGIN:VEVENT
DTSTART;TZID=America/Toronto:20240312T110000
DTEND;TZID=America/Toronto:20240312T120000
DTSTAMP:20260419T172842
CREATED:20240301T031259Z
LAST-MODIFIED:20240301T031431Z
UID:4211-1710241200-1710244800@epic.utoronto.ca
SUMMARY:BlueDot’s 2024 Watchlist: The top 5 infectious disease threats you can’t ignore
DESCRIPTION:We are in a new era of infectious diseases – they are emerging with greater frequency and severity. But which ones warrant your attention? Learn about the next wave of threats impacting populations around the globe in our latest webinar on the top 5 infectious disease threats that you can’t ignore! \nBlueDot\, a leader in infectious disease intelligence\, invites you to an exclusive webinar where we unveil our 2024 Watchlist. In this session\, they’ll dive into the top 5 infectious disease threats that demand your attention\, and they’ll explore their potential impact. Gain a comprehensive understanding of the current infectious disease landscape and equip yourself with the tools to navigate the evolving challenges\, ensuring readiness and resilience in the face of emerging health threats. \nKey topics covered will include: \n\nInsights into threats: Be aware of emerging and existing infectious diseases that are gaining momentum\, and get detailed insights into their characteristics\, transmission dynamics\, and potential consequences.\nComparative risk assessment: Explore the comparative risks posed by seasonal diseases\, endemic diseases\, and outbreaks and grasp the unique factors influencing the harm caused by each.\nProactive mitigation strategies: Discover best practices for implementing proactive public health measures and collaboration strategies\, empowering youwith the knowledge needed to effectively mitigate and respond to emerging threats.\n\nJoin BlueDot for an informative and interactive session that equips you with the knowledge to navigate the evolving landscape. Secure your spot now to dive into infectious disease threats and be part of the conversation. \nRegister for free to reserve your spot!
URL:https://epic.utoronto.ca/event/bluedots-2024-watchlist-the-top-5-infectious-disease-threats-you-cant-ignore/
CATEGORIES:Virtual,Webinar
ATTACH;FMTTYPE=image/webp:https://epic.utoronto.ca/wp-content/uploads/2024/02/BlueDots-top-5-disease-threats-for-2024-1920x1080-1-1536x864-1.webp
END:VEVENT
BEGIN:VEVENT
DTSTART;TZID=America/Toronto:20240312T120000
DTEND;TZID=America/Toronto:20240312T133000
DTSTAMP:20260419T172842
CREATED:20240306T014301Z
LAST-MODIFIED:20240306T014301Z
UID:4231-1710244800-1710250200@epic.utoronto.ca
SUMMARY:From Science to Business: Lessons in Communicating your Value to Industry
DESCRIPTION:The S2BN Toronto Chapter and St. Michael’s Research Student Association invite you to learn about communicating your value to industry with Dr. Bruce Seet\, founder of S2BN and Head of Medical Affairs Novavax. Join us on Tuesday\, March 12 2024\, from 12 to 1:30 pm EST at Li Ka Shing Knowledge Institute\, Unity Health Toronto to discover how academic skills can translate to a career! There will also be lunch provided for all attendees!  Open to all graduate students and postdoctoral fellows in STEM! \nSign up now.
URL:https://epic.utoronto.ca/event/from-science-to-business-lessons-in-communicating-your-value-to-industry/
LOCATION:Li Ka Shing Knowledge Institute\, 209 Victoria St\, Toronto\, ON\, M5B 1T8\, Canada
CATEGORIES:In-person,Workshop
ATTACH;FMTTYPE=image/png:https://epic.utoronto.ca/wp-content/uploads/2024/03/S2BN-event.png
END:VEVENT
END:VCALENDAR