BEGIN:VCALENDAR
VERSION:2.0
PRODID:-//EPIC Emerging &amp; Pandemic Infections Consortium - ECPv6.15.11//NONSGML v1.0//EN
CALSCALE:GREGORIAN
METHOD:PUBLISH
X-WR-CALNAME:EPIC Emerging &amp; Pandemic Infections Consortium
X-ORIGINAL-URL:https://epic.utoronto.ca
X-WR-CALDESC:Events for EPIC Emerging &amp; Pandemic Infections Consortium
REFRESH-INTERVAL;VALUE=DURATION:PT1H
X-Robots-Tag:noindex
X-PUBLISHED-TTL:PT1H
BEGIN:VTIMEZONE
TZID:America/Toronto
BEGIN:DAYLIGHT
TZOFFSETFROM:-0500
TZOFFSETTO:-0400
TZNAME:EDT
DTSTART:20230312T070000
END:DAYLIGHT
BEGIN:STANDARD
TZOFFSETFROM:-0400
TZOFFSETTO:-0500
TZNAME:EST
DTSTART:20231105T060000
END:STANDARD
BEGIN:DAYLIGHT
TZOFFSETFROM:-0500
TZOFFSETTO:-0400
TZNAME:EDT
DTSTART:20240310T070000
END:DAYLIGHT
BEGIN:STANDARD
TZOFFSETFROM:-0400
TZOFFSETTO:-0500
TZNAME:EST
DTSTART:20241103T060000
END:STANDARD
BEGIN:DAYLIGHT
TZOFFSETFROM:-0500
TZOFFSETTO:-0400
TZNAME:EDT
DTSTART:20250309T070000
END:DAYLIGHT
BEGIN:STANDARD
TZOFFSETFROM:-0400
TZOFFSETTO:-0500
TZNAME:EST
DTSTART:20251102T060000
END:STANDARD
END:VTIMEZONE
BEGIN:VEVENT
DTSTART;VALUE=DATE:20240610
DTEND;VALUE=DATE:20240612
DTSTAMP:20260419T190331
CREATED:20240220T180204Z
LAST-MODIFIED:20240610T135104Z
UID:4130-1717977600-1718150399@epic.utoronto.ca
SUMMARY:Microbiology and Infectious Diseases Research Day
DESCRIPTION:The annual University of Toronto Microbiology and Infectious Diseases Research Day returns on June 10 and 11\, 2024. Join us for a day of trainee talks on June 10 and an invited keynote\, faculty talks and posters on June 11! \nThe event is free and open to all to attend. Stay tuned for more details as we finalize the agenda! \nThis event is organized by the Emerging and Pandemic Infections Consortium in collaboration with the Division of Infectious Diseases at U of T’s Department of Medicine\, Division of Infectious Diseases at SickKids\, Institute for Pandemics and U of T’s postgraduate medical and clinical microbiology programs. \nREGISTER NOW TO RESERVE YOUR SPOT! \nClick here to download the 2024 MID Research Day program.  \nClick here to download the 2024 MID Research Day abstract book.
URL:https://epic.utoronto.ca/event/microbiology-and-infectious-disease-research-day/
LOCATION:Medical Sciences Building\, Room 3153\, 1 King’s College Circle\, Room 3153\, Toronto\, ON\, M5S 1A8\, Canada
CATEGORIES:In-person
ATTACH;FMTTYPE=image/png:https://epic.utoronto.ca/wp-content/uploads/2024/02/2024-MID-Research-Day-.png
END:VEVENT
BEGIN:VEVENT
DTSTART;TZID=America/Toronto:20240611T083000
DTEND;TZID=America/Toronto:20240611T173000
DTSTAMP:20260419T190331
CREATED:20240527T174414Z
LAST-MODIFIED:20240527T174755Z
UID:4703-1718094600-1718127000@epic.utoronto.ca
SUMMARY:Covid-19 Excess Mortality Symposium
DESCRIPTION:The COVID-19 pandemic is estimated to have caused nearly 15 million excess deaths globally by the end of 2021\, more than twice the number of COVID-specific deaths reported. The Omicron waves in 2022 likely added to this total. In contrast to incidence and prevalence data\, mortality data are high quality and complete. For most countries weekly or monthly age-sex specific death counts are released within six months and in many cases are available subnationally. These data have great potential for understanding epidemiology of infectious diseases\, tracking the state of infectious diseases in the population\, and assessing the performance of the public health and medical systems. This workshop will assemble the leading scholars on excess mortality estimation to both share their methodological expertise and to discuss the potential for improved collection and expanded use of mortality data. \nOrganized by the Centre for Global Health Research\, this workshop will involve in-depth (45 minute) talks by the international invited speakers\, a series of shorter presentations by several Canadian scientists\, and panel discussions by influential practitioners and decision makers. Ample time will be allocated to group discussions\, with a discussant giving a prepared response to each of the main presentations. \n  \n\n\n\n\nSpeakers\n\nJon Wakefield (U Washington)\nAriel Karlinsky (Hebrew University\, Israel)\nMarta Blangiardo (Imperial College\, London)\n\n\n\n\n\nOrganizers\n\nPatrick Brown (UT Statistics and Unity Health Toronto)\nMonica Alexander (UT Sociology and UT Statistics)\nPrabhat Jha (UT DLSPH and Unity Health Toronto)
URL:https://epic.utoronto.ca/event/covid-19-excess-mortality-symposium/
LOCATION:Li Ka Shing Knowledge Institute\, 209 Victoria St\, Toronto\, ON\, M5B 1T8\, Canada
CATEGORIES:In-person,Symposium
ATTACH;FMTTYPE=image/jpeg:https://epic.utoronto.ca/wp-content/uploads/2024/05/https___cdn.evbuc_.com_images_774001999_1144718607953_1_original.jpg
END:VEVENT
END:VCALENDAR