BEGIN:VCALENDAR
VERSION:2.0
PRODID:-//EPIC Emerging &amp; Pandemic Infections Consortium - ECPv6.15.11//NONSGML v1.0//EN
CALSCALE:GREGORIAN
METHOD:PUBLISH
X-WR-CALNAME:EPIC Emerging &amp; Pandemic Infections Consortium
X-ORIGINAL-URL:https://epic.utoronto.ca
X-WR-CALDESC:Events for EPIC Emerging &amp; Pandemic Infections Consortium
REFRESH-INTERVAL;VALUE=DURATION:PT1H
X-Robots-Tag:noindex
X-PUBLISHED-TTL:PT1H
BEGIN:VTIMEZONE
TZID:America/Toronto
BEGIN:DAYLIGHT
TZOFFSETFROM:-0500
TZOFFSETTO:-0400
TZNAME:EDT
DTSTART:20230312T070000
END:DAYLIGHT
BEGIN:STANDARD
TZOFFSETFROM:-0400
TZOFFSETTO:-0500
TZNAME:EST
DTSTART:20231105T060000
END:STANDARD
BEGIN:DAYLIGHT
TZOFFSETFROM:-0500
TZOFFSETTO:-0400
TZNAME:EDT
DTSTART:20240310T070000
END:DAYLIGHT
BEGIN:STANDARD
TZOFFSETFROM:-0400
TZOFFSETTO:-0500
TZNAME:EST
DTSTART:20241103T060000
END:STANDARD
BEGIN:DAYLIGHT
TZOFFSETFROM:-0500
TZOFFSETTO:-0400
TZNAME:EDT
DTSTART:20250309T070000
END:DAYLIGHT
BEGIN:STANDARD
TZOFFSETFROM:-0400
TZOFFSETTO:-0500
TZNAME:EST
DTSTART:20251102T060000
END:STANDARD
END:VTIMEZONE
BEGIN:VEVENT
DTSTART;TZID=America/Toronto:20240909T080000
DTEND;TZID=America/Toronto:20240909T090000
DTSTAMP:20260420T202642
CREATED:20240904T133341Z
LAST-MODIFIED:20240904T133341Z
UID:4939-1725868800-1725872400@epic.utoronto.ca
SUMMARY:HIV and Antiretroviral Therapy in Pregnancy and Child Health Outcomes in Uganda – The PACO Study
DESCRIPTION:University Health Network (UHN)\, the Department of Obstetrics and Gynaecology at the University of Toronto and the SickKids Centre for Global Child Health (C-GCH) host Lisa Bebell (Harvard Medical School) for a hybrid presentation. \nRegister here to attend in person. \nRegister here to attend virtually.
URL:https://epic.utoronto.ca/event/hiv-and-antiretroviral-therapy-in-pregnancy-and-child-health-outcomes-in-uganda-the-paco-study/
LOCATION:Peter Gilgan Centre for Research and Learning\, Event rooms 2A/B\, 686 Bay Street\, Toronto\, Ontario\, M5G0A4\, Canada
CATEGORIES:Hybrid,Seminar
END:VEVENT
END:VCALENDAR