BEGIN:VCALENDAR
VERSION:2.0
PRODID:-//EPIC Emerging &amp; Pandemic Infections Consortium - ECPv6.15.11//NONSGML v1.0//EN
CALSCALE:GREGORIAN
METHOD:PUBLISH
X-ORIGINAL-URL:https://epic.utoronto.ca
X-WR-CALDESC:Events for EPIC Emerging &amp; Pandemic Infections Consortium
REFRESH-INTERVAL;VALUE=DURATION:PT1H
X-Robots-Tag:noindex
X-PUBLISHED-TTL:PT1H
BEGIN:VTIMEZONE
TZID:America/Toronto
BEGIN:DAYLIGHT
TZOFFSETFROM:-0500
TZOFFSETTO:-0400
TZNAME:EDT
DTSTART:20230312T070000
END:DAYLIGHT
BEGIN:STANDARD
TZOFFSETFROM:-0400
TZOFFSETTO:-0500
TZNAME:EST
DTSTART:20231105T060000
END:STANDARD
BEGIN:DAYLIGHT
TZOFFSETFROM:-0500
TZOFFSETTO:-0400
TZNAME:EDT
DTSTART:20240310T070000
END:DAYLIGHT
BEGIN:STANDARD
TZOFFSETFROM:-0400
TZOFFSETTO:-0500
TZNAME:EST
DTSTART:20241103T060000
END:STANDARD
BEGIN:DAYLIGHT
TZOFFSETFROM:-0500
TZOFFSETTO:-0400
TZNAME:EDT
DTSTART:20250309T070000
END:DAYLIGHT
BEGIN:STANDARD
TZOFFSETFROM:-0400
TZOFFSETTO:-0500
TZNAME:EST
DTSTART:20251102T060000
END:STANDARD
END:VTIMEZONE
BEGIN:VEVENT
DTSTART;TZID=America/Toronto:20241205T170000
DTEND;TZID=America/Toronto:20241205T180000
DTSTAMP:20260422T103521
CREATED:20241111T170808Z
LAST-MODIFIED:20241113T171841Z
UID:5307-1733418000-1733421600@epic.utoronto.ca
SUMMARY:EPIC Trainee Pizza Talks
DESCRIPTION:This seminar series\, organized by EPIC’s Trainee Advisory Committee (TAC)\, is a safe and supportive trainee-only space for trainees to present and discuss their research with other students\, postdocs\, and RAs from various research fields. It is also an excellent opportunity for trainees to connect and interact with other trainees! \nThe speakers for the December talks are: \nDesmond van den Berg ( Postdoctoral fellow\, supervised by Ben Hatton): Modifying medical gloves to reduce microbial transmission \nJames Pollock (PhD student\, supervised by Rupert Kaul): Defining the impact of gender-based violence on mucosal HIV susceptibility \nDate and time: December 5\, 5:00 – 6:00 PM ET \nLocation: Red Room\, Donnelly Centre for Cellular and Biomolecular Research \n  \nFollowing this seminar\, EPIC TAC will host a pub night. Appetizers and soft drinks will be covered.  \nLocation: Prenup Pub- 191 College St\, Toronto\, M5T 1P9. \nSign up for the social by November 28th. To sign up\, scan the QR code or sign up here!
URL:https://epic.utoronto.ca/event/epic-trainee-pizza-talks/
LOCATION:CCBR Red Room
CATEGORIES:In-person,Trainee-only event
ATTACH;FMTTYPE=image/png:https://epic.utoronto.ca/wp-content/uploads/2024/11/EPIC-TAC-Trainee-Seminar-December.png
END:VEVENT
END:VCALENDAR