BEGIN:VCALENDAR
VERSION:2.0
PRODID:-//EPIC Emerging &amp; Pandemic Infections Consortium - ECPv6.15.11//NONSGML v1.0//EN
CALSCALE:GREGORIAN
METHOD:PUBLISH
X-WR-CALNAME:EPIC Emerging &amp; Pandemic Infections Consortium
X-ORIGINAL-URL:https://epic.utoronto.ca
X-WR-CALDESC:Events for EPIC Emerging &amp; Pandemic Infections Consortium
REFRESH-INTERVAL;VALUE=DURATION:PT1H
X-Robots-Tag:noindex
X-PUBLISHED-TTL:PT1H
BEGIN:VTIMEZONE
TZID:America/Toronto
BEGIN:DAYLIGHT
TZOFFSETFROM:-0500
TZOFFSETTO:-0400
TZNAME:EDT
DTSTART:20230312T070000
END:DAYLIGHT
BEGIN:STANDARD
TZOFFSETFROM:-0400
TZOFFSETTO:-0500
TZNAME:EST
DTSTART:20231105T060000
END:STANDARD
BEGIN:DAYLIGHT
TZOFFSETFROM:-0500
TZOFFSETTO:-0400
TZNAME:EDT
DTSTART:20240310T070000
END:DAYLIGHT
BEGIN:STANDARD
TZOFFSETFROM:-0400
TZOFFSETTO:-0500
TZNAME:EST
DTSTART:20241103T060000
END:STANDARD
BEGIN:DAYLIGHT
TZOFFSETFROM:-0500
TZOFFSETTO:-0400
TZNAME:EDT
DTSTART:20250309T070000
END:DAYLIGHT
BEGIN:STANDARD
TZOFFSETFROM:-0400
TZOFFSETTO:-0500
TZNAME:EST
DTSTART:20251102T060000
END:STANDARD
END:VTIMEZONE
BEGIN:VEVENT
DTSTART;TZID=America/Toronto:20241216T140000
DTEND;TZID=America/Toronto:20241216T160000
DTSTAMP:20260419T184814
CREATED:20241122T155428Z
LAST-MODIFIED:20241122T155428Z
UID:5348-1734357600-1734364800@epic.utoronto.ca
SUMMARY:Soft Skills Training for Graduate Students: Building Your Online Presence and Personal Brand
DESCRIPTION:This webinar will cover how graduate students doing research can leverage social media platforms to build a successful online presence\, engage with a broad audience\, and communicate their research responsibly and effectively. Topics include practical guidelines for building a personal brand\, using social media effectively\, and leveraging AI tools as well as best-practice examples and resources. \nDate: December 16th \nTime: 2:00 – 4:00 PM EST \nRegister here via the Institute for Pandemics. \n  \n 
URL:https://epic.utoronto.ca/event/soft-skills-training-for-graduate-students-building-your-online-presence-and-personal-brand/
CATEGORIES:Virtual,Webinar
ATTACH;FMTTYPE=image/png:https://epic.utoronto.ca/wp-content/uploads/2024/11/IfP-Dec-talk.png
END:VEVENT
END:VCALENDAR