BEGIN:VCALENDAR
VERSION:2.0
PRODID:-//EPIC Emerging &amp; Pandemic Infections Consortium - ECPv6.15.11//NONSGML v1.0//EN
CALSCALE:GREGORIAN
METHOD:PUBLISH
X-WR-CALNAME:EPIC Emerging &amp; Pandemic Infections Consortium
X-ORIGINAL-URL:https://epic.utoronto.ca
X-WR-CALDESC:Events for EPIC Emerging &amp; Pandemic Infections Consortium
REFRESH-INTERVAL;VALUE=DURATION:PT1H
X-Robots-Tag:noindex
X-PUBLISHED-TTL:PT1H
BEGIN:VTIMEZONE
TZID:America/Toronto
BEGIN:DAYLIGHT
TZOFFSETFROM:-0500
TZOFFSETTO:-0400
TZNAME:EDT
DTSTART:20240310T070000
END:DAYLIGHT
BEGIN:STANDARD
TZOFFSETFROM:-0400
TZOFFSETTO:-0500
TZNAME:EST
DTSTART:20241103T060000
END:STANDARD
BEGIN:DAYLIGHT
TZOFFSETFROM:-0500
TZOFFSETTO:-0400
TZNAME:EDT
DTSTART:20250309T070000
END:DAYLIGHT
BEGIN:STANDARD
TZOFFSETFROM:-0400
TZOFFSETTO:-0500
TZNAME:EST
DTSTART:20251102T060000
END:STANDARD
BEGIN:DAYLIGHT
TZOFFSETFROM:-0500
TZOFFSETTO:-0400
TZNAME:EDT
DTSTART:20260308T070000
END:DAYLIGHT
BEGIN:STANDARD
TZOFFSETFROM:-0400
TZOFFSETTO:-0500
TZNAME:EST
DTSTART:20261101T060000
END:STANDARD
END:VTIMEZONE
BEGIN:VEVENT
DTSTART;TZID=America/Toronto:20250114T100000
DTEND;TZID=America/Toronto:20250114T120000
DTSTAMP:20260419T085647
CREATED:20241218T151448Z
LAST-MODIFIED:20241218T151918Z
UID:5472-1736848800-1736856000@epic.utoronto.ca
SUMMARY:Transforming EDI from Commitment to Operations: Strategies for Sustainable Integration
DESCRIPTION:In this virtual workshop\, participants will understand and reconnect with the importance of Equity\, Diversity and Inclusion (EDI) within institutions and be given practical tools and resources to implement EDI. \nThe session will be facilitated by Jodie Glean-Mitchell\, executive director\, Equity\, Diversity & Inclusion at the University of Toronto \nDate: January 14th \nTime: 10:00 AM – 12:00 PM \nRegister here via the event page
URL:https://epic.utoronto.ca/event/transforming-edi-from-commitment-to-operations-strategies-for-sustainable-integration/
CATEGORIES:Virtual
END:VEVENT
END:VCALENDAR