BEGIN:VCALENDAR
VERSION:2.0
PRODID:-//EPIC Emerging &amp; Pandemic Infections Consortium - ECPv6.15.11//NONSGML v1.0//EN
CALSCALE:GREGORIAN
METHOD:PUBLISH
X-WR-CALNAME:EPIC Emerging &amp; Pandemic Infections Consortium
X-ORIGINAL-URL:https://epic.utoronto.ca
X-WR-CALDESC:Events for EPIC Emerging &amp; Pandemic Infections Consortium
REFRESH-INTERVAL;VALUE=DURATION:PT1H
X-Robots-Tag:noindex
X-PUBLISHED-TTL:PT1H
BEGIN:VTIMEZONE
TZID:America/Toronto
BEGIN:DAYLIGHT
TZOFFSETFROM:-0500
TZOFFSETTO:-0400
TZNAME:EDT
DTSTART:20240310T070000
END:DAYLIGHT
BEGIN:STANDARD
TZOFFSETFROM:-0400
TZOFFSETTO:-0500
TZNAME:EST
DTSTART:20241103T060000
END:STANDARD
BEGIN:DAYLIGHT
TZOFFSETFROM:-0500
TZOFFSETTO:-0400
TZNAME:EDT
DTSTART:20250309T070000
END:DAYLIGHT
BEGIN:STANDARD
TZOFFSETFROM:-0400
TZOFFSETTO:-0500
TZNAME:EST
DTSTART:20251102T060000
END:STANDARD
BEGIN:DAYLIGHT
TZOFFSETFROM:-0500
TZOFFSETTO:-0400
TZNAME:EDT
DTSTART:20260308T070000
END:DAYLIGHT
BEGIN:STANDARD
TZOFFSETFROM:-0400
TZOFFSETTO:-0500
TZNAME:EST
DTSTART:20261101T060000
END:STANDARD
END:VTIMEZONE
BEGIN:VEVENT
DTSTART;TZID=America/Toronto:20250213T120000
DTEND;TZID=America/Toronto:20250213T130000
DTSTAMP:20260420T145024
CREATED:20250211T195738Z
LAST-MODIFIED:20250211T203105Z
UID:5741-1739448000-1739451600@epic.utoronto.ca
SUMMARY:PHO Microbiology Rounds: Building Pediatric Infectious Disease Observatory
DESCRIPTION:Organized by Public Health Ontario (PHO) the PHO: Microbiology Rounds webinar series is featuring a presentation by U of T alum\, Senjuti Saha. \nSenjuti Saha obtained her PhD from the UofT Department of Molecular Genetics and did post-doctoral training at Toronto’s SickKids Research Institute and then at Stanford U. Since 2016\, she has pioneered genomics and infectious disease research in Bangladesh\, and her work includes discovering chikungunya virus as the cause of pediatric meningitis and sequencing Bangladesh’s first SARS-CoV-2 genome during the COVID-19 pandemic. As the deputy executive director of the Child Health Research Foundation (CHRF) in Bangladesh\, she and her team are currently developing a state-of-the-art “Infection Observatory” to enable the rapid and accurate detection of emerging and endemic pathogens of concern. In her talk\, she will address healthcare inequities including access to healthcare innovations and how building research capacity in resource-limited settings can transform global health challenges into opportunities for impactful\, scalable solutions. \nDate and time: February 13th\, 12:00 – 1:00 PM \nLocation Virtual via Zoom \nRegister here via the event page.
URL:https://epic.utoronto.ca/event/pho-microbiology-rounds-building-pediatric-infectious-disease-observatory/
CATEGORIES:Webinar
END:VEVENT
END:VCALENDAR