BEGIN:VCALENDAR
VERSION:2.0
PRODID:-//EPIC Emerging &amp; Pandemic Infections Consortium - ECPv6.15.11//NONSGML v1.0//EN
CALSCALE:GREGORIAN
METHOD:PUBLISH
X-ORIGINAL-URL:https://epic.utoronto.ca
X-WR-CALDESC:Events for EPIC Emerging &amp; Pandemic Infections Consortium
REFRESH-INTERVAL;VALUE=DURATION:PT1H
X-Robots-Tag:noindex
X-PUBLISHED-TTL:PT1H
BEGIN:VTIMEZONE
TZID:America/Toronto
BEGIN:DAYLIGHT
TZOFFSETFROM:-0500
TZOFFSETTO:-0400
TZNAME:EDT
DTSTART:20240310T070000
END:DAYLIGHT
BEGIN:STANDARD
TZOFFSETFROM:-0400
TZOFFSETTO:-0500
TZNAME:EST
DTSTART:20241103T060000
END:STANDARD
BEGIN:DAYLIGHT
TZOFFSETFROM:-0500
TZOFFSETTO:-0400
TZNAME:EDT
DTSTART:20250309T070000
END:DAYLIGHT
BEGIN:STANDARD
TZOFFSETFROM:-0400
TZOFFSETTO:-0500
TZNAME:EST
DTSTART:20251102T060000
END:STANDARD
BEGIN:DAYLIGHT
TZOFFSETFROM:-0500
TZOFFSETTO:-0400
TZNAME:EDT
DTSTART:20260308T070000
END:DAYLIGHT
BEGIN:STANDARD
TZOFFSETFROM:-0400
TZOFFSETTO:-0500
TZNAME:EST
DTSTART:20261101T060000
END:STANDARD
END:VTIMEZONE
BEGIN:VEVENT
DTSTART;TZID=America/Toronto:20250225T120000
DTEND;TZID=America/Toronto:20250225T133000
DTSTAMP:20260422T114251
CREATED:20250219T164539Z
LAST-MODIFIED:20250219T164903Z
UID:5754-1740484800-1740490200@epic.utoronto.ca
SUMMARY:Mpox vaccination in Ontario: clinical\, community\, and research perspectives
DESCRIPTION:The 2022 outbreak of mpox in Canada disproportionately affected gay\, bisexual\, and other men who have sex with men (GBMSM). Recognizing that the GBMSM group is at high risk of exposure\, Ontario deployed the two-regimen modified vaccinia ankara–bavaria nordic (MVA-BN) vaccine\, first in June 2022 and next in September 2022. Vaccine uptake\, however\, has remained low\, especially for the second dose\, despite increases in cases and continuing transmission. \nThis Centre for Vaccine Preventable Diseases (CVPD) webinar will be moderated by CVPD associate director and EPIC member Jeff Kwong\, who will be joined by fellow EPIC member\, Darrell Tan\, along with Ramandip Grewal\, Devan Nambiar and Mac Stewart for a discussion on the clinical aspects of mpox\, perspectives from the community\, and findings on how to reach those at risk to help increase vaccine coverage. \nDate and time: February 25th\, 12:00 – 1:30 PM \nLocation: Virtual \nRegister here via CVPD!
URL:https://epic.utoronto.ca/event/mpox-vaccination-in-ontario-clinical-community-and-research-perspectives/
LOCATION:Ontario
CATEGORIES:Virtual,Webinar
ATTACH;FMTTYPE=image/jpeg:https://epic.utoronto.ca/wp-content/uploads/2025/02/CVPD-Feb-webinar.jpg
END:VEVENT
END:VCALENDAR