BEGIN:VCALENDAR
VERSION:2.0
PRODID:-//EPIC Emerging &amp; Pandemic Infections Consortium - ECPv6.15.11//NONSGML v1.0//EN
CALSCALE:GREGORIAN
METHOD:PUBLISH
X-WR-CALNAME:EPIC Emerging &amp; Pandemic Infections Consortium
X-ORIGINAL-URL:https://epic.utoronto.ca
X-WR-CALDESC:Events for EPIC Emerging &amp; Pandemic Infections Consortium
REFRESH-INTERVAL;VALUE=DURATION:PT1H
X-Robots-Tag:noindex
X-PUBLISHED-TTL:PT1H
BEGIN:VTIMEZONE
TZID:America/Toronto
BEGIN:DAYLIGHT
TZOFFSETFROM:-0500
TZOFFSETTO:-0400
TZNAME:EDT
DTSTART:20240310T070000
END:DAYLIGHT
BEGIN:STANDARD
TZOFFSETFROM:-0400
TZOFFSETTO:-0500
TZNAME:EST
DTSTART:20241103T060000
END:STANDARD
BEGIN:DAYLIGHT
TZOFFSETFROM:-0500
TZOFFSETTO:-0400
TZNAME:EDT
DTSTART:20250309T070000
END:DAYLIGHT
BEGIN:STANDARD
TZOFFSETFROM:-0400
TZOFFSETTO:-0500
TZNAME:EST
DTSTART:20251102T060000
END:STANDARD
BEGIN:DAYLIGHT
TZOFFSETFROM:-0500
TZOFFSETTO:-0400
TZNAME:EDT
DTSTART:20260308T070000
END:DAYLIGHT
BEGIN:STANDARD
TZOFFSETFROM:-0400
TZOFFSETTO:-0500
TZNAME:EST
DTSTART:20261101T060000
END:STANDARD
END:VTIMEZONE
BEGIN:VEVENT
DTSTART;TZID=America/Toronto:20250311T080000
DTEND;TZID=America/Toronto:20250314T170000
DTSTAMP:20260420T161429
CREATED:20250203T164414Z
LAST-MODIFIED:20250203T164414Z
UID:5703-1741680000-1741971600@epic.utoronto.ca
SUMMARY:One Health: Antimicrobial Resistance and Emerging Zoonoses Conference
DESCRIPTION:The One Health: AMR & Emerging Zoonoses Conference is an exciting collaboration between the Antimicrobial Resistance – One Health Consortium (AMR-OHC)\, Canadian Antimicrobial Resistance Network (CAN-AMR-Net) and the Canadian One Health Training Program for Emerging Zoonoses (COHTPEZ) to create a dynamic environment for interdisciplinary collaboration in One Health. \nThe conference is designed to unite experts across disciplines to address antimicrobial resistance and emerging zoonotic disease through a collaborative One Health approach. By fostering interdisciplinary learning\, research\, and partnerships\, the conference will empower attendees to tackle health challenges impacting humans\, animals\, and ecosystems\, ensuring a sustainable future for global health. \nConference dates: March 11th to 14th \nLocation: Hotel Arts\, Calgary\, Alberta \nRegistration is NOW open! To register before the early bird registration deadline on February 5th\, click here! \nFor the program at a glance\, please click here!
URL:https://epic.utoronto.ca/event/one-health-antimicrobial-resistance-and-emerging-zoonoses-conference/
LOCATION:Hotel Arts\, 119 12 Ave SW\, Calgary\, Alberta\, T2R 0G8\, Canada
CATEGORIES:Conference,In-person
ATTACH;FMTTYPE=image/jpeg:https://epic.utoronto.ca/wp-content/uploads/2025/02/AMR-One-Health-Conference-event-banner.jpg
END:VEVENT
END:VCALENDAR