BEGIN:VCALENDAR
VERSION:2.0
PRODID:-//EPIC Emerging &amp; Pandemic Infections Consortium - ECPv6.15.11//NONSGML v1.0//EN
CALSCALE:GREGORIAN
METHOD:PUBLISH
X-WR-CALNAME:EPIC Emerging &amp; Pandemic Infections Consortium
X-ORIGINAL-URL:https://epic.utoronto.ca
X-WR-CALDESC:Events for EPIC Emerging &amp; Pandemic Infections Consortium
REFRESH-INTERVAL;VALUE=DURATION:PT1H
X-Robots-Tag:noindex
X-PUBLISHED-TTL:PT1H
BEGIN:VTIMEZONE
TZID:America/Toronto
BEGIN:DAYLIGHT
TZOFFSETFROM:-0500
TZOFFSETTO:-0400
TZNAME:EDT
DTSTART:20240310T070000
END:DAYLIGHT
BEGIN:STANDARD
TZOFFSETFROM:-0400
TZOFFSETTO:-0500
TZNAME:EST
DTSTART:20241103T060000
END:STANDARD
BEGIN:DAYLIGHT
TZOFFSETFROM:-0500
TZOFFSETTO:-0400
TZNAME:EDT
DTSTART:20250309T070000
END:DAYLIGHT
BEGIN:STANDARD
TZOFFSETFROM:-0400
TZOFFSETTO:-0500
TZNAME:EST
DTSTART:20251102T060000
END:STANDARD
BEGIN:DAYLIGHT
TZOFFSETFROM:-0500
TZOFFSETTO:-0400
TZNAME:EDT
DTSTART:20260308T070000
END:DAYLIGHT
BEGIN:STANDARD
TZOFFSETFROM:-0400
TZOFFSETTO:-0500
TZNAME:EST
DTSTART:20261101T060000
END:STANDARD
END:VTIMEZONE
BEGIN:VEVENT
DTSTART;TZID=America/Toronto:20250327T110000
DTEND;TZID=America/Toronto:20250327T150000
DTSTAMP:20260419T205554
CREATED:20250313T210802Z
LAST-MODIFIED:20250313T211126Z
UID:5848-1743073200-1743087600@epic.utoronto.ca
SUMMARY:Lunch & Learn: Bruker Life Sciences Mass Spectrometry
DESCRIPTION:Sinai Health’s Lunenfeld-Tanenbaum Research Institute is co-hosting a mini symposium to showcase the latest advances in MALDI imaging\, spatial proteomics and 4D metabolomics & lipidomics. \nRegister for the symposium to learn about these technologies and how to use them in your research. \nDate and time: March 27\, 11:00 AM to 3:00 PM \nLocation: 60 Murray Street\, L3-201 \nRegister here via Lunenfeld-Tanenbaum Research Institute/ Sinai Health!
URL:https://epic.utoronto.ca/event/lunch-learn-bruker-life-sciences-mass-spectrometry-2/
LOCATION:Mount Sinai Hospital\, 60 Murray Street\, L3-201\, Toronto\, ON\, M5T 3L9
CATEGORIES:In-person,Symposium
ATTACH;FMTTYPE=image/jpeg:https://epic.utoronto.ca/wp-content/uploads/2025/03/LTRI-Mass-spec-symposium-March-2025.jpg
END:VEVENT
END:VCALENDAR