BEGIN:VCALENDAR
VERSION:2.0
PRODID:-//EPIC Emerging &amp; Pandemic Infections Consortium - ECPv6.15.11//NONSGML v1.0//EN
CALSCALE:GREGORIAN
METHOD:PUBLISH
X-ORIGINAL-URL:https://epic.utoronto.ca
X-WR-CALDESC:Events for EPIC Emerging &amp; Pandemic Infections Consortium
REFRESH-INTERVAL;VALUE=DURATION:PT1H
X-Robots-Tag:noindex
X-PUBLISHED-TTL:PT1H
BEGIN:VTIMEZONE
TZID:America/Toronto
BEGIN:DAYLIGHT
TZOFFSETFROM:-0500
TZOFFSETTO:-0400
TZNAME:EDT
DTSTART:20240310T070000
END:DAYLIGHT
BEGIN:STANDARD
TZOFFSETFROM:-0400
TZOFFSETTO:-0500
TZNAME:EST
DTSTART:20241103T060000
END:STANDARD
BEGIN:DAYLIGHT
TZOFFSETFROM:-0500
TZOFFSETTO:-0400
TZNAME:EDT
DTSTART:20250309T070000
END:DAYLIGHT
BEGIN:STANDARD
TZOFFSETFROM:-0400
TZOFFSETTO:-0500
TZNAME:EST
DTSTART:20251102T060000
END:STANDARD
BEGIN:DAYLIGHT
TZOFFSETFROM:-0500
TZOFFSETTO:-0400
TZNAME:EDT
DTSTART:20260308T070000
END:DAYLIGHT
BEGIN:STANDARD
TZOFFSETFROM:-0400
TZOFFSETTO:-0500
TZNAME:EST
DTSTART:20261101T060000
END:STANDARD
END:VTIMEZONE
BEGIN:VEVENT
DTSTART;TZID=America/Toronto:20250603T093000
DTEND;TZID=America/Toronto:20250603T160000
DTSTAMP:20260422T102450
CREATED:20250529T135843Z
LAST-MODIFIED:20250529T135843Z
UID:6161-1748943000-1748966400@epic.utoronto.ca
SUMMARY:The University of Toronto’s One Health Network Building Event
DESCRIPTION:The University of Toronto One Health Team invites you for a day of talks\, panel discussions and brainstorming groups to contribute to the vision for the newly formed U of T One Health Consortium! \nThe event features invited speaker\, Arinjay Banerjee\, at the University of Saskatchewan. \nAll researchers and trainees interested in One Health approaches are encouraged to attend. \nDate and time: June 3\, 9:30 AM – 4:30 PM \nLocation: The Toronto Zoo\, 2000 Meadowvale Rd\, Toronto\, M1B 5K7 \nTo know more\, visit the event page. \n 
URL:https://epic.utoronto.ca/event/the-university-of-torontos-one-health-network-building-event/
LOCATION:Ontario
CATEGORIES:Discussion,In-person
ATTACH;FMTTYPE=image/png:https://epic.utoronto.ca/wp-content/uploads/2025/05/U-of-T-One-Health-June-3-2025-event.png
END:VEVENT
END:VCALENDAR