BEGIN:VCALENDAR
VERSION:2.0
PRODID:-//EPIC Emerging &amp; Pandemic Infections Consortium - ECPv6.15.11//NONSGML v1.0//EN
CALSCALE:GREGORIAN
METHOD:PUBLISH
X-ORIGINAL-URL:https://epic.utoronto.ca
X-WR-CALDESC:Events for EPIC Emerging &amp; Pandemic Infections Consortium
REFRESH-INTERVAL;VALUE=DURATION:PT1H
X-Robots-Tag:noindex
X-PUBLISHED-TTL:PT1H
BEGIN:VTIMEZONE
TZID:America/Toronto
BEGIN:DAYLIGHT
TZOFFSETFROM:-0500
TZOFFSETTO:-0400
TZNAME:EDT
DTSTART:20240310T070000
END:DAYLIGHT
BEGIN:STANDARD
TZOFFSETFROM:-0400
TZOFFSETTO:-0500
TZNAME:EST
DTSTART:20241103T060000
END:STANDARD
BEGIN:DAYLIGHT
TZOFFSETFROM:-0500
TZOFFSETTO:-0400
TZNAME:EDT
DTSTART:20250309T070000
END:DAYLIGHT
BEGIN:STANDARD
TZOFFSETFROM:-0400
TZOFFSETTO:-0500
TZNAME:EST
DTSTART:20251102T060000
END:STANDARD
BEGIN:DAYLIGHT
TZOFFSETFROM:-0500
TZOFFSETTO:-0400
TZNAME:EDT
DTSTART:20260308T070000
END:DAYLIGHT
BEGIN:STANDARD
TZOFFSETFROM:-0400
TZOFFSETTO:-0500
TZNAME:EST
DTSTART:20261101T060000
END:STANDARD
END:VTIMEZONE
BEGIN:VEVENT
DTSTART;TZID=America/Toronto:20250610T090000
DTEND;TZID=America/Toronto:20250610T160000
DTSTAMP:20260422T023438
CREATED:20250505T170849Z
LAST-MODIFIED:20250505T170849Z
UID:6043-1749546000-1749571200@epic.utoronto.ca
SUMMARY:Accelerate Your Science- Olink Seminar 2025
DESCRIPTION:The Network Biology Collaborative Centre at the Lunenfeld-Tanenbaum Research Institute/ Sinai Health and Olink Proteomics are hosting a one-day\, in-person symposium featuring experts in proteomics and multiomics from academia and industry. \nAttendees can explore how affinity-based proteomics is driving breakthroughs in precision medicine and gain experience working with high-quality proteomics data in the afternoon workshop. \nView the event agenda here! \nThe event is free to attend but registration is required. Visit the event page to register. \nDate and time: June 10\, 9:00 AM – 4:00 PM\nLocation: Mt Sinai Auditorium (18th floor Auditorium\, 600 University Ave\, Toronto\, ON M5G 1X5)
URL:https://epic.utoronto.ca/event/accelerate-your-science-olink-seminar-2025/
LOCATION:Mt Sinai Auditorium\, 18th Floor Auditorium\, 600 University Street\, Toronto\, ON\, M5G 1X5\, Canada
CATEGORIES:In-person,Symposium
ATTACH;FMTTYPE=image/jpeg:https://epic.utoronto.ca/wp-content/uploads/2025/05/LTRI-June-Olink-seminar.jpg
END:VEVENT
END:VCALENDAR