BEGIN:VCALENDAR
VERSION:2.0
PRODID:-//EPIC Emerging &amp; Pandemic Infections Consortium - ECPv6.15.11//NONSGML v1.0//EN
CALSCALE:GREGORIAN
METHOD:PUBLISH
X-WR-CALNAME:EPIC Emerging &amp; Pandemic Infections Consortium
X-ORIGINAL-URL:https://epic.utoronto.ca
X-WR-CALDESC:Events for EPIC Emerging &amp; Pandemic Infections Consortium
REFRESH-INTERVAL;VALUE=DURATION:PT1H
X-Robots-Tag:noindex
X-PUBLISHED-TTL:PT1H
BEGIN:VTIMEZONE
TZID:America/Toronto
BEGIN:DAYLIGHT
TZOFFSETFROM:-0500
TZOFFSETTO:-0400
TZNAME:EDT
DTSTART:20240310T070000
END:DAYLIGHT
BEGIN:STANDARD
TZOFFSETFROM:-0400
TZOFFSETTO:-0500
TZNAME:EST
DTSTART:20241103T060000
END:STANDARD
BEGIN:DAYLIGHT
TZOFFSETFROM:-0500
TZOFFSETTO:-0400
TZNAME:EDT
DTSTART:20250309T070000
END:DAYLIGHT
BEGIN:STANDARD
TZOFFSETFROM:-0400
TZOFFSETTO:-0500
TZNAME:EST
DTSTART:20251102T060000
END:STANDARD
BEGIN:DAYLIGHT
TZOFFSETFROM:-0500
TZOFFSETTO:-0400
TZNAME:EDT
DTSTART:20260308T070000
END:DAYLIGHT
BEGIN:STANDARD
TZOFFSETFROM:-0400
TZOFFSETTO:-0500
TZNAME:EST
DTSTART:20261101T060000
END:STANDARD
END:VTIMEZONE
BEGIN:VEVENT
DTSTART;TZID=America/Toronto:20250905T100000
DTEND;TZID=America/Toronto:20250905T120000
DTSTAMP:20260420T191923
CREATED:20250704T212713Z
LAST-MODIFIED:20250704T212713Z
UID:6227-1757066400-1757073600@epic.utoronto.ca
SUMMARY:Faculty Writing Accelerator: 12 Weeks to Publication Fall 2025
DESCRIPTION:U of T’s Centre for Research and Innovation Support (CRIS) is organizing a fall workshop series to help faculty to hone their research writing skills. \nThe workshop will be facilitated by Elizabeth Parke\, Faculty Programming Development Officer\, CRIS and will be held between 10:00 AM and 12:00 PM on Fridays\, starting September 5th. The workshop will run until the last Friday in November. \nInterested faculty should register by Friday August 8\, 2025 5:00pm ES \nTo register\, please visit the CRIS webpage.
URL:https://epic.utoronto.ca/event/faculty-writing-accelerator-12-weeks-to-publication-fall-2025/
LOCATION:Virtual on Zoom
CATEGORIES:Virtual,Workshop
ATTACH;FMTTYPE=image/png:https://epic.utoronto.ca/wp-content/uploads/2025/07/CRIS-Faculty-writing-workshop.png
END:VEVENT
END:VCALENDAR