BEGIN:VCALENDAR
VERSION:2.0
PRODID:-//EPIC Emerging &amp; Pandemic Infections Consortium - ECPv6.15.11//NONSGML v1.0//EN
CALSCALE:GREGORIAN
METHOD:PUBLISH
X-WR-CALNAME:EPIC Emerging &amp; Pandemic Infections Consortium
X-ORIGINAL-URL:https://epic.utoronto.ca
X-WR-CALDESC:Events for EPIC Emerging &amp; Pandemic Infections Consortium
REFRESH-INTERVAL;VALUE=DURATION:PT1H
X-Robots-Tag:noindex
X-PUBLISHED-TTL:PT1H
BEGIN:VTIMEZONE
TZID:America/Toronto
BEGIN:DAYLIGHT
TZOFFSETFROM:-0500
TZOFFSETTO:-0400
TZNAME:EDT
DTSTART:20240310T070000
END:DAYLIGHT
BEGIN:STANDARD
TZOFFSETFROM:-0400
TZOFFSETTO:-0500
TZNAME:EST
DTSTART:20241103T060000
END:STANDARD
BEGIN:DAYLIGHT
TZOFFSETFROM:-0500
TZOFFSETTO:-0400
TZNAME:EDT
DTSTART:20250309T070000
END:DAYLIGHT
BEGIN:STANDARD
TZOFFSETFROM:-0400
TZOFFSETTO:-0500
TZNAME:EST
DTSTART:20251102T060000
END:STANDARD
BEGIN:DAYLIGHT
TZOFFSETFROM:-0500
TZOFFSETTO:-0400
TZNAME:EDT
DTSTART:20260308T070000
END:DAYLIGHT
BEGIN:STANDARD
TZOFFSETFROM:-0400
TZOFFSETTO:-0500
TZNAME:EST
DTSTART:20261101T060000
END:STANDARD
END:VTIMEZONE
BEGIN:VEVENT
DTSTART;TZID=America/Toronto:20250917T120000
DTEND;TZID=America/Toronto:20250917T130000
DTSTAMP:20260420T144508
CREATED:20250910T205756Z
LAST-MODIFIED:20250923T203718Z
UID:6505-1758110400-1758114000@epic.utoronto.ca
SUMMARY:Breaking Symmetry: Revealing Hidden Entry Mechanisms in Icosahedral Viruses by Cryo-EM
DESCRIPTION:The Department of Biochemistry will be hosting Dr. David Bhella for the weekly George Connel lecture series. \nDr. Bhella is a professor of structural biology\, as well as director of the Scottish Centre for Macromolecular Imaging and associate director for the MRC-University of Glasgow Centre for Virus Research. \nHe will be giving a talk titled: “Breaking Symmetry: Revealing Hidden Entry Mechanisms in Icosahedral Viruses by Cryo-EM”. \nWhen: 17 September 2025\, 12:10-1:00pm \nWhere: Medical Sciences Building\, RM2170
URL:https://epic.utoronto.ca/event/george-connel-lecture-series-dr-david-bhella-breaking-symmetry-revealing-hidden-mechanisms-in-icosahedral-viruses-by-cryo-em/
LOCATION:Medical Sciences Building\, Room 2170\, 1 King’s College Circle\, Room 2170\, Toronto\, ON\, M5S 1A8\, Canada
CATEGORIES:In-person,Seminar
ATTACH;FMTTYPE=application/pdf:https://epic.utoronto.ca/wp-content/uploads/2025/09/David_Bhella_17Sept2025-1.pdf
END:VEVENT
END:VCALENDAR