BEGIN:VCALENDAR
VERSION:2.0
PRODID:-//EPIC Emerging &amp; Pandemic Infections Consortium - ECPv6.15.11//NONSGML v1.0//EN
CALSCALE:GREGORIAN
METHOD:PUBLISH
X-ORIGINAL-URL:https://epic.utoronto.ca
X-WR-CALDESC:Events for EPIC Emerging &amp; Pandemic Infections Consortium
REFRESH-INTERVAL;VALUE=DURATION:PT1H
X-Robots-Tag:noindex
X-PUBLISHED-TTL:PT1H
BEGIN:VTIMEZONE
TZID:America/Toronto
BEGIN:DAYLIGHT
TZOFFSETFROM:-0500
TZOFFSETTO:-0400
TZNAME:EDT
DTSTART:20240310T070000
END:DAYLIGHT
BEGIN:STANDARD
TZOFFSETFROM:-0400
TZOFFSETTO:-0500
TZNAME:EST
DTSTART:20241103T060000
END:STANDARD
BEGIN:DAYLIGHT
TZOFFSETFROM:-0500
TZOFFSETTO:-0400
TZNAME:EDT
DTSTART:20250309T070000
END:DAYLIGHT
BEGIN:STANDARD
TZOFFSETFROM:-0400
TZOFFSETTO:-0500
TZNAME:EST
DTSTART:20251102T060000
END:STANDARD
BEGIN:DAYLIGHT
TZOFFSETFROM:-0500
TZOFFSETTO:-0400
TZNAME:EDT
DTSTART:20260308T070000
END:DAYLIGHT
BEGIN:STANDARD
TZOFFSETFROM:-0400
TZOFFSETTO:-0500
TZNAME:EST
DTSTART:20261101T060000
END:STANDARD
END:VTIMEZONE
BEGIN:VEVENT
DTSTART;TZID=America/Toronto:20251125T110000
DTEND;TZID=America/Toronto:20251125T123000
DTSTAMP:20260422T173249
CREATED:20251030T164433Z
LAST-MODIFIED:20251030T164433Z
UID:6764-1764068400-1764073800@epic.utoronto.ca
SUMMARY:AMR & AMU Surveillance
DESCRIPTION:The Canadian Antimicrobial Resistance Network (CAN-AMR-Net) is a national health research training platform\, from the University of Calgary\, which approaches antimicrobial use and resistance through a One Health lens. \nThis year\, CAN-AMR-Net will be hosting a 10-part seminar series titled “Antimicrobial Resistance: A One Health Approach” which aims to bring together experts from many disciplines to explore AMR issues\, enhance trans-disciplinary training\, and offer practical strategies to combat AMR through a One Health perspective. \nA certificate of participation in the series is available for attendees of all 10 sessions. \nThis seminar series is free to attend (though donations are encouraged). Sessions are not recorded. \nRegister through Eventbrite to attend. \n\n\n  \nSession 9 Information:  \nTitle: Mechanisms of AMR & the State of Novel Drug Discovery \nWhen: November 25th\, 11:00 a.m. – 12:30 p.m. \nWhere: Zoom link provided upon registration. \nSpeakers:  \n\nSimon Otto\, Associate Professor\, School of Public Health\, University of Alberta\nRichard Reid-Smith\, Veterinary Epidemiologist\, Co-Lead\, Canadian Integrated Program for Antimicrobial Resistance Surveillance\, Public Health Agency of Canada\nSarah Jane Payne\, Assistant Professor\, Faculty of Civil Engineering\, Queen’s University
URL:https://epic.utoronto.ca/event/amr-amu-surveillance/
LOCATION:Virtual
CATEGORIES:Seminar,Virtual
END:VEVENT
END:VCALENDAR