BEGIN:VCALENDAR
VERSION:2.0
PRODID:-//EPIC Emerging &amp; Pandemic Infections Consortium - ECPv6.15.11//NONSGML v1.0//EN
CALSCALE:GREGORIAN
METHOD:PUBLISH
X-ORIGINAL-URL:https://epic.utoronto.ca
X-WR-CALDESC:Events for EPIC Emerging &amp; Pandemic Infections Consortium
REFRESH-INTERVAL;VALUE=DURATION:PT1H
X-Robots-Tag:noindex
X-PUBLISHED-TTL:PT1H
BEGIN:VTIMEZONE
TZID:America/Toronto
BEGIN:DAYLIGHT
TZOFFSETFROM:-0500
TZOFFSETTO:-0400
TZNAME:EDT
DTSTART:20240310T070000
END:DAYLIGHT
BEGIN:STANDARD
TZOFFSETFROM:-0400
TZOFFSETTO:-0500
TZNAME:EST
DTSTART:20241103T060000
END:STANDARD
BEGIN:DAYLIGHT
TZOFFSETFROM:-0500
TZOFFSETTO:-0400
TZNAME:EDT
DTSTART:20250309T070000
END:DAYLIGHT
BEGIN:STANDARD
TZOFFSETFROM:-0400
TZOFFSETTO:-0500
TZNAME:EST
DTSTART:20251102T060000
END:STANDARD
BEGIN:DAYLIGHT
TZOFFSETFROM:-0500
TZOFFSETTO:-0400
TZNAME:EDT
DTSTART:20260308T070000
END:DAYLIGHT
BEGIN:STANDARD
TZOFFSETFROM:-0400
TZOFFSETTO:-0500
TZNAME:EST
DTSTART:20261101T060000
END:STANDARD
END:VTIMEZONE
BEGIN:VEVENT
DTSTART;TZID=America/Toronto:20251203T140000
DTEND;TZID=America/Toronto:20251203T150000
DTSTAMP:20260422T114114
CREATED:20251126T212841Z
LAST-MODIFIED:20251126T212841Z
UID:6924-1764770400-1764774000@epic.utoronto.ca
SUMMARY:Airborne pathways of antimicrobial resistance: Exploring bioaerosols in environmental and public health surveillance
DESCRIPTION:The Institute of Health Emergencies and Pandemics (IHEP) invites the University of Toronto community for a talk presented by postdoctoral fellow David Kormos titled “Airborne Pathways of Antimicrobial Resistance: Exploring Bioaerosols in Environmental and Public Health Surveillance\,” highlighting the emerging role of airborne AMR in shaping future public health monitoring and emergency preparedness. \nTopic description: Antimicrobial resistance (AMR) is a major global health threat and is responsible for billions of dollars in direct healthcare costs and lost productivity in Canada. While AMR spread has long been tracked through water and soil\, bioaerosols have only recently been recognized as a potential critical pathway. Bioaerosols are airborne particles carrying microorganisms and genetic material that can enable long-range transport of antibiotic resistance genes (ARGs) and other pathogens\, potentially spreading resistance across ecosystems\, and infecting humans and animals via inhalation. Interest in research into airborne AMR is growing\, as are the challenges. These include choosing the right environments\, sampling instruments\, and analytical techniques for the diverse research questions\, and capturing and analyzing low-biomass samples\, a constant problem with any bioaerosol research. This presentation will summarize our current understanding of airborne ARGs in different environments and discuss the sampling strategies and molecular techniques at our disposal. \nDate: December 3rd \nTime: 2:00 – 3:00 p.m. \nLocation: Room TBD\, 155 College St.\, Health Sciences Building\, Dalla Lana School of Public Health \nRegister here!
URL:https://epic.utoronto.ca/event/airborne-pathways-of-antimicrobial-resistance-exploring-bioaerosols-in-environmental-and-public-health-surveillance/
LOCATION:155 College Street Toronto\, ON M5T 3M7\, 155 College Street\, Toronto\, ON\, M5T 3M7
CATEGORIES:In-person,Seminar
ATTACH;FMTTYPE=image/jpeg:https://epic.utoronto.ca/wp-content/uploads/2025/11/bioaerosols.jpg
END:VEVENT
END:VCALENDAR