BEGIN:VCALENDAR
VERSION:2.0
PRODID:-//EPIC Emerging &amp; Pandemic Infections Consortium - ECPv6.15.11//NONSGML v1.0//EN
CALSCALE:GREGORIAN
METHOD:PUBLISH
X-WR-CALNAME:EPIC Emerging &amp; Pandemic Infections Consortium
X-ORIGINAL-URL:https://epic.utoronto.ca
X-WR-CALDESC:Events for EPIC Emerging &amp; Pandemic Infections Consortium
REFRESH-INTERVAL;VALUE=DURATION:PT1H
X-Robots-Tag:noindex
X-PUBLISHED-TTL:PT1H
BEGIN:VTIMEZONE
TZID:America/Toronto
BEGIN:DAYLIGHT
TZOFFSETFROM:-0500
TZOFFSETTO:-0400
TZNAME:EDT
DTSTART:20240310T070000
END:DAYLIGHT
BEGIN:STANDARD
TZOFFSETFROM:-0400
TZOFFSETTO:-0500
TZNAME:EST
DTSTART:20241103T060000
END:STANDARD
BEGIN:DAYLIGHT
TZOFFSETFROM:-0500
TZOFFSETTO:-0400
TZNAME:EDT
DTSTART:20250309T070000
END:DAYLIGHT
BEGIN:STANDARD
TZOFFSETFROM:-0400
TZOFFSETTO:-0500
TZNAME:EST
DTSTART:20251102T060000
END:STANDARD
BEGIN:DAYLIGHT
TZOFFSETFROM:-0500
TZOFFSETTO:-0400
TZNAME:EDT
DTSTART:20260308T070000
END:DAYLIGHT
BEGIN:STANDARD
TZOFFSETFROM:-0400
TZOFFSETTO:-0500
TZNAME:EST
DTSTART:20261101T060000
END:STANDARD
END:VTIMEZONE
BEGIN:VEVENT
DTSTART;TZID=America/Toronto:20251209T120000
DTEND;TZID=America/Toronto:20251209T130000
DTSTAMP:20260420T211923
CREATED:20250929T185336Z
LAST-MODIFIED:20251201T213047Z
UID:6620-1765281600-1765285200@epic.utoronto.ca
SUMMARY:Catalyst Seminar Series - Session 3: AI and Data
DESCRIPTION:The Catalyst Seminar Series is hosted by the Institute for Pandemics (IfP) at the University of Toronto. The aim of this series is to spotlight the innovative work of interdisciplinary teams tackling urgent challenges in pandemic and public health emergency\, preparedness\, response\, and recovery. \nThis third session will be virtual and feature presentations on the following projects: \n\nTalk titles: TBA\nSpeakers:\n\nZahra Shakeri (Dalla Lana School of Public Health)\nSwetaprovo Chaudhuri (Faculty of Applied Science & Engineering)\n\n\n\nPlease see here for more details and to register for the session.
URL:https://epic.utoronto.ca/event/catalyst-seminar-series-session-3-ai-and-data/
LOCATION:Virtual
CATEGORIES:Seminar,Virtual
ATTACH;FMTTYPE=image/jpeg:https://epic.utoronto.ca/wp-content/uploads/2025/09/1764086352369.jpg
END:VEVENT
BEGIN:VEVENT
DTSTART;TZID=America/Toronto:20251209T150000
DTEND;TZID=America/Toronto:20251209T160000
DTSTAMP:20260420T211923
CREATED:20251126T193512Z
LAST-MODIFIED:20251126T193512Z
UID:6916-1765292400-1765296000@epic.utoronto.ca
SUMMARY:Careers Chat: Hospital careers in Immunology
DESCRIPTION:This event is being offered by the Department of Immunology’s Postdoc Event Committee. \nTitle: Coffee Chat: Immunology careers in a Hospital Setting (Core facilities) \nDate: December 9th 2025 \nTime: 3:00 – 4:00 p.m. \nLocation: Immunology Bistro Room 7243 Medical Sciences Building \nCoffee/Tea and Cookies available! \nGuest Panelists:\nDr. Linh Nguyen\, Head\, Centre for Cell Manufacturing\, Princess Margaret Cancer Centre\nDr. Ben Wang\, Head\, Centre for Integrative Immune analysis\, Princess Margaret Cancer Centre. \nLearn more here: Coffee Chat – Careers in Immunology_Panelists
URL:https://epic.utoronto.ca/event/careers-chat-hospital-careers-in-immunology/
LOCATION:Medical Sciences Building\, Room 7243
END:VEVENT
END:VCALENDAR