BEGIN:VCALENDAR
VERSION:2.0
PRODID:-//EPIC Emerging &amp; Pandemic Infections Consortium - ECPv6.15.11//NONSGML v1.0//EN
CALSCALE:GREGORIAN
METHOD:PUBLISH
X-ORIGINAL-URL:https://epic.utoronto.ca
X-WR-CALDESC:Events for EPIC Emerging &amp; Pandemic Infections Consortium
REFRESH-INTERVAL;VALUE=DURATION:PT1H
X-Robots-Tag:noindex
X-PUBLISHED-TTL:PT1H
BEGIN:VTIMEZONE
TZID:America/Toronto
BEGIN:DAYLIGHT
TZOFFSETFROM:-0500
TZOFFSETTO:-0400
TZNAME:EDT
DTSTART:20250309T070000
END:DAYLIGHT
BEGIN:STANDARD
TZOFFSETFROM:-0400
TZOFFSETTO:-0500
TZNAME:EST
DTSTART:20251102T060000
END:STANDARD
BEGIN:DAYLIGHT
TZOFFSETFROM:-0500
TZOFFSETTO:-0400
TZNAME:EDT
DTSTART:20260308T070000
END:DAYLIGHT
BEGIN:STANDARD
TZOFFSETFROM:-0400
TZOFFSETTO:-0500
TZNAME:EST
DTSTART:20261101T060000
END:STANDARD
BEGIN:DAYLIGHT
TZOFFSETFROM:-0500
TZOFFSETTO:-0400
TZNAME:EDT
DTSTART:20270314T070000
END:DAYLIGHT
BEGIN:STANDARD
TZOFFSETFROM:-0400
TZOFFSETTO:-0500
TZNAME:EST
DTSTART:20271107T060000
END:STANDARD
END:VTIMEZONE
BEGIN:VEVENT
DTSTART;TZID=America/Toronto:20260423T103000
DTEND;TZID=America/Toronto:20260423T113000
DTSTAMP:20260423T061144
CREATED:20260417T185204Z
LAST-MODIFIED:20260417T185204Z
UID:7663-1776940200-1776943800@epic.utoronto.ca
SUMMARY:H5N1 Influenza in Canada: Risk\, Transmission\, and Vaccine Strategy
DESCRIPTION:Join the Ontario Veterinary College\, University of Guelph for their 2026 Chappel Memorial Lecture will featuring Darwyn Kobasa\, Head of the High Containment Respiratory Viruses Group in the Special Pathogens Program at the National Microbiology Laboratory (NML) in Winnipeg. \nDr. Kobasa will deliver a timely and important lecture titled: “H5N1 Influenza in Canada: Risk\, Transmission\, and Vaccine Strategy”\n \nEstablished by OVC alumnus Clifford Chappel (Class of 1950) in memory of his father\, the Chappel Lecture brings world‑leading scientists to their community each year. \nKobasa’s work focuses on emerging zoonotic respiratory viruses and the development of medical countermeasures\, including vaccines\, antivirals\, and antibody‑based therapies. His team’s research in CL4 containment has been central to understanding the virulence and transmissibility of novel H5N1 genotypes in Canada. \nDate: 23 April\, 2026\nTime: 10:30–11:30 AM EST\nLocation: ECLA 1720 at the Ontario Veterinary College or on Microsoft Teams. \nRegistration is not required. Please direct all inquiries to ovc.gradresearch@uoguelph.ca. 
URL:https://epic.utoronto.ca/event/h5n1-influenza-in-canada-risk-transmission-and-vaccine-strategy/
LOCATION:Virtual
CATEGORIES:Hybrid,Seminar
END:VEVENT
END:VCALENDAR