BEGIN:VCALENDAR
VERSION:2.0
PRODID:-//EPIC Emerging &amp; Pandemic Infections Consortium - ECPv6.15.11//NONSGML v1.0//EN
CALSCALE:GREGORIAN
METHOD:PUBLISH
X-WR-CALNAME:EPIC Emerging &amp; Pandemic Infections Consortium
X-ORIGINAL-URL:https://epic.utoronto.ca
X-WR-CALDESC:Events for EPIC Emerging &amp; Pandemic Infections Consortium
REFRESH-INTERVAL;VALUE=DURATION:PT1H
X-Robots-Tag:noindex
X-PUBLISHED-TTL:PT1H
BEGIN:VTIMEZONE
TZID:America/Toronto
BEGIN:DAYLIGHT
TZOFFSETFROM:-0500
TZOFFSETTO:-0400
TZNAME:EDT
DTSTART:20220313T070000
END:DAYLIGHT
BEGIN:STANDARD
TZOFFSETFROM:-0400
TZOFFSETTO:-0500
TZNAME:EST
DTSTART:20221106T060000
END:STANDARD
BEGIN:DAYLIGHT
TZOFFSETFROM:-0500
TZOFFSETTO:-0400
TZNAME:EDT
DTSTART:20230312T070000
END:DAYLIGHT
BEGIN:STANDARD
TZOFFSETFROM:-0400
TZOFFSETTO:-0500
TZNAME:EST
DTSTART:20231105T060000
END:STANDARD
BEGIN:DAYLIGHT
TZOFFSETFROM:-0500
TZOFFSETTO:-0400
TZNAME:EDT
DTSTART:20240310T070000
END:DAYLIGHT
BEGIN:STANDARD
TZOFFSETFROM:-0400
TZOFFSETTO:-0500
TZNAME:EST
DTSTART:20241103T060000
END:STANDARD
END:VTIMEZONE
BEGIN:VEVENT
DTSTART;TZID=America/Toronto:20231030T110000
DTEND;TZID=America/Toronto:20231030T120000
DTSTAMP:20260421T213106
CREATED:20231023T135318Z
LAST-MODIFIED:20231023T135820Z
UID:3521-1698663600-1698667200@epic.utoronto.ca
SUMMARY:B cell responses to vaccination: Lessons from the pandemic
DESCRIPTION:EPIC member Tania Watts host Ali Ellebedy (Washington University School of Medicine in St. Louis) as part of the Department of Immunology’s Charles Gould Easton Seminar Series.
URL:https://epic.utoronto.ca/event/b-cell-responses-to-vaccination-lessons-from-the-pandemic/
LOCATION:Medical Sciences Building\, Room 2170\, 1 King’s College Circle\, Room 2170\, Toronto\, ON\, M5S 1A8\, Canada
CATEGORIES:In-person,Seminar
END:VEVENT
BEGIN:VEVENT
DTSTART;TZID=America/Toronto:20231030T130000
DTEND;TZID=America/Toronto:20231030T140000
DTSTAMP:20260421T213106
CREATED:20231025T144035Z
LAST-MODIFIED:20231025T144354Z
UID:3536-1698670800-1698674400@epic.utoronto.ca
SUMMARY:Multipronged approaches to pandemic prevention
DESCRIPTION:The Molecular Medicine Seminar Series at the Hospital for Sick Children will be hosting Matthew Miller\, director of the M.G. DeGroote Institute for Infectious Disease Research at McMaster University. He is also an associate professor of biochemistry and biomedical sciences. \nMiller’s expertise is primarily in the area of viral immunology\, most notably vaccines and therapeutics designed to prevent pandemics\, especially those caused by influenza viruses and coronaviruses. In this context\, the Miller Laboratory studies diverse aspects of virus-host interactions. Current areas of focus include: influenza virus and the biology of broadly-neutralizing antibodies; regulation of humoral immunity; mortality trends during influenza virus pandemics; the cell biology and immunobiology of COVID-19/SARS-CoV-2; the influence of infection and inflammation on neurodegenerative diseases\, particularly amyotrophic lateral sclerosis (ALS); and cancer immunotherapy. \nAttendees can also join the seminar virtually using the information below: \nJoin Zoom Meeting\nhttps://zoom.us/j/92737340235?pwd=emlIcm5KMDF6S0JlTmdUSk0xTzRXQT09 \nMeeting ID: 927 3734 0235\nPasscode: 810568
URL:https://epic.utoronto.ca/event/multipronged-approaches-to-pandemic-prevention/
LOCATION:Peter Gilgan Centre for Research and Learning\, Event rooms 3A/3B\, 686 Bay Street\, Toronto\, ON\, Canada
CATEGORIES:Hybrid,Seminar
ATTACH;FMTTYPE=image/jpeg:https://epic.utoronto.ca/wp-content/uploads/2023/10/MM-Seminar-Matthew-Miller_Oct-30.jpg
END:VEVENT
END:VCALENDAR