BEGIN:VCALENDAR
VERSION:2.0
PRODID:-//EPIC Emerging &amp; Pandemic Infections Consortium - ECPv6.15.11//NONSGML v1.0//EN
CALSCALE:GREGORIAN
METHOD:PUBLISH
X-ORIGINAL-URL:https://epic.utoronto.ca
X-WR-CALDESC:Events for EPIC Emerging &amp; Pandemic Infections Consortium
REFRESH-INTERVAL;VALUE=DURATION:PT1H
X-Robots-Tag:noindex
X-PUBLISHED-TTL:PT1H
BEGIN:VTIMEZONE
TZID:America/Toronto
BEGIN:DAYLIGHT
TZOFFSETFROM:-0500
TZOFFSETTO:-0400
TZNAME:EDT
DTSTART:20250309T070000
END:DAYLIGHT
BEGIN:STANDARD
TZOFFSETFROM:-0400
TZOFFSETTO:-0500
TZNAME:EST
DTSTART:20251102T060000
END:STANDARD
BEGIN:DAYLIGHT
TZOFFSETFROM:-0500
TZOFFSETTO:-0400
TZNAME:EDT
DTSTART:20260308T070000
END:DAYLIGHT
BEGIN:STANDARD
TZOFFSETFROM:-0400
TZOFFSETTO:-0500
TZNAME:EST
DTSTART:20261101T060000
END:STANDARD
BEGIN:DAYLIGHT
TZOFFSETFROM:-0500
TZOFFSETTO:-0400
TZNAME:EDT
DTSTART:20270314T070000
END:DAYLIGHT
BEGIN:STANDARD
TZOFFSETFROM:-0400
TZOFFSETTO:-0500
TZNAME:EST
DTSTART:20271107T060000
END:STANDARD
END:VTIMEZONE
BEGIN:VEVENT
DTSTART;TZID=America/Toronto:20260422T110000
DTEND;TZID=America/Toronto:20260422T120000
DTSTAMP:20260422T224155
CREATED:20260408T143007Z
LAST-MODIFIED:20260408T143007Z
UID:7604-1776855600-1776859200@epic.utoronto.ca
SUMMARY:Regulation of intestinal effector and memory T cells by NOD2
DESCRIPTION:Join the Department of Immunology for the PhD seminar of Boyan Tsankov\, who is supervised by EPIC member Dana Philpott and will be presenting their thesis work titled “Regulation of intestinal effector and memory T cells by NOD2“. \nDate: 22 April 2026 \nTime: 11:00 – 12:00 p.m. \nLocation: Room 3278\, Medical Sciences Building \nA Zoom link will be sent to members of the department via email for virtual attendance.
URL:https://epic.utoronto.ca/event/regulation-of-intestinal-effector-and-memory-t-cells-by-nod2/
LOCATION:Medical Sciences Building\, Room 3278\, 1 King's College Circle Medical Sciences Building\, RM4383 Medical Sciences Building\, RM4383\, Toronto\, ON\, M5S 1A8\, Canada
CATEGORIES:Hybrid,Seminar
END:VEVENT
END:VCALENDAR