BEGIN:VCALENDAR
VERSION:2.0
PRODID:-//EPIC Emerging &amp; Pandemic Infections Consortium - ECPv6.15.11//NONSGML v1.0//EN
CALSCALE:GREGORIAN
METHOD:PUBLISH
X-ORIGINAL-URL:https://epic.utoronto.ca
X-WR-CALDESC:Events for EPIC Emerging &amp; Pandemic Infections Consortium
REFRESH-INTERVAL;VALUE=DURATION:PT1H
X-Robots-Tag:noindex
X-PUBLISHED-TTL:PT1H
BEGIN:VTIMEZONE
TZID:America/Toronto
BEGIN:DAYLIGHT
TZOFFSETFROM:-0500
TZOFFSETTO:-0400
TZNAME:EDT
DTSTART:20250309T070000
END:DAYLIGHT
BEGIN:STANDARD
TZOFFSETFROM:-0400
TZOFFSETTO:-0500
TZNAME:EST
DTSTART:20251102T060000
END:STANDARD
BEGIN:DAYLIGHT
TZOFFSETFROM:-0500
TZOFFSETTO:-0400
TZNAME:EDT
DTSTART:20260308T070000
END:DAYLIGHT
BEGIN:STANDARD
TZOFFSETFROM:-0400
TZOFFSETTO:-0500
TZNAME:EST
DTSTART:20261101T060000
END:STANDARD
BEGIN:DAYLIGHT
TZOFFSETFROM:-0500
TZOFFSETTO:-0400
TZNAME:EDT
DTSTART:20270314T070000
END:DAYLIGHT
BEGIN:STANDARD
TZOFFSETFROM:-0400
TZOFFSETTO:-0500
TZNAME:EST
DTSTART:20271107T060000
END:STANDARD
END:VTIMEZONE
BEGIN:VEVENT
DTSTART;TZID=America/Toronto:20260305T170000
DTEND;TZID=America/Toronto:20260305T180000
DTSTAMP:20260423T034931
CREATED:20260223T215154Z
LAST-MODIFIED:20260305T013841Z
UID:7312-1772730000-1772733600@epic.utoronto.ca
SUMMARY:EPIC Trainee Pizza Talks
DESCRIPTION:Join EPIC’s trainee advisory committee (TAC) for their bimonthly Trainee Pizza Talks! \nThese informal 20-30 minute seminars offer a PI-free space for trainees to practice their presentation and science communication skills in a friendly environment\, while enjoying some pizza while they’re at it! \nThis month’s Pizza Talks will feature the following seminars: \n\nIn vivo adaptation of Neisseria gonorrhoeae through phase variable loci by Sophie Dyzenhaus (Postdoctoral fellow in the Gray-Owen Lab)\nEstimating causal estimands from time-varying real-world data using Bayesian marginal structural models by Nancy Tahmo (PhD student in the Mishra Lab)\n\n  \nDate: March 5th\, 2026 \nTime: 5:00 – 6:00 p.m. \nLocation: Red room\, Donnelly Centre \nRegistration is not required. \nIf you would like to give a seminar at one of TAC’s Trainee Pizza Talks\, please sign up using this form!
URL:https://epic.utoronto.ca/event/epic-trainee-pizza-talks-5/
LOCATION:Red Seminar Room\, Donnelly Centre for Cellular and Biomolecular Research
CATEGORIES:In-person,Seminar,Trainee-only event
ATTACH;FMTTYPE=image/png:https://epic.utoronto.ca/wp-content/uploads/2026/02/2026-03-05-Trainee-Pizza-Talk-1.png
END:VEVENT
BEGIN:VEVENT
DTSTART;TZID=America/Toronto:20260310T120000
DTEND;TZID=America/Toronto:20260310T130000
DTSTAMP:20260423T034931
CREATED:20260116T152236Z
LAST-MODIFIED:20260303T145320Z
UID:7169-1773144000-1773147600@epic.utoronto.ca
SUMMARY:Before antibiotics\, after resistance: The history and future of phage therapy
DESCRIPTION:Join EPIC’s trainee advisory committee (TAC) for their “Topics in infectious disease research: Postdoc lunch lectures”. \nThese informal seminars take place over lunch (pizza will be served!)\, and are held by a postdoctoral fellow working on infectious disease research. The aim of these seminars is for more senior researchers to share research methods\, techniques\, and/or approaches with the EPIC community through short 20-30 minute talks. These seminars are largely attended by graduate students who are keen to discover the many ways infectious disease research is conducted\, especially in disciplines outside of their own. \nThis month’s seminar will be: \n\nBefore antibiotics\, after resistance: The history and future of phage therapy\, by Landon Getz\, postdoctoral fellow in the Maxwell Lab (Department of Biochemistry)\n\nDate: March 10th\, 2026 \nTime: 12:00 – 1:00 p.m. \nLocation: MS3278\, Medical Sciences Building\, St George Campus\, University of Toronto \nAre you interested in sharing your knowledge and putting teaching skills to the test? Sign up to give a Postdoc Lunch Lecture using this form!
URL:https://epic.utoronto.ca/event/topics-and-techniques-in-infectious-disease-research-postdoc-lunch-lectures/
LOCATION:Medical Sciences Building\, Room 3278\, 1 King's College Circle Medical Sciences Building\, RM4383 Medical Sciences Building\, RM4383\, Toronto\, ON\, M5S 1A8\, Canada
CATEGORIES:Seminar,Trainee-only event
ATTACH;FMTTYPE=image/png:https://epic.utoronto.ca/wp-content/uploads/2026/01/Postdoc-Lunch-Lecture_March.png
END:VEVENT
END:VCALENDAR