BEGIN:VCALENDAR
VERSION:2.0
PRODID:-//EPIC Emerging &amp; Pandemic Infections Consortium - ECPv6.15.11//NONSGML v1.0//EN
CALSCALE:GREGORIAN
METHOD:PUBLISH
X-ORIGINAL-URL:https://epic.utoronto.ca
X-WR-CALDESC:Events for EPIC Emerging &amp; Pandemic Infections Consortium
REFRESH-INTERVAL;VALUE=DURATION:PT1H
X-Robots-Tag:noindex
X-PUBLISHED-TTL:PT1H
BEGIN:VTIMEZONE
TZID:America/Toronto
BEGIN:DAYLIGHT
TZOFFSETFROM:-0500
TZOFFSETTO:-0400
TZNAME:EDT
DTSTART:20230312T070000
END:DAYLIGHT
BEGIN:STANDARD
TZOFFSETFROM:-0400
TZOFFSETTO:-0500
TZNAME:EST
DTSTART:20231105T060000
END:STANDARD
BEGIN:DAYLIGHT
TZOFFSETFROM:-0500
TZOFFSETTO:-0400
TZNAME:EDT
DTSTART:20240310T070000
END:DAYLIGHT
BEGIN:STANDARD
TZOFFSETFROM:-0400
TZOFFSETTO:-0500
TZNAME:EST
DTSTART:20241103T060000
END:STANDARD
BEGIN:DAYLIGHT
TZOFFSETFROM:-0500
TZOFFSETTO:-0400
TZNAME:EDT
DTSTART:20250309T070000
END:DAYLIGHT
BEGIN:STANDARD
TZOFFSETFROM:-0400
TZOFFSETTO:-0500
TZNAME:EST
DTSTART:20251102T060000
END:STANDARD
END:VTIMEZONE
BEGIN:VEVENT
DTSTART;TZID=America/Toronto:20240307T120000
DTEND;TZID=America/Toronto:20240307T130000
DTSTAMP:20260421T203822
CREATED:20240207T152916Z
LAST-MODIFIED:20240207T152916Z
UID:4124-1709812800-1709816400@epic.utoronto.ca
SUMMARY:Indoor air and infectious disease transmission
DESCRIPTION:The Institute for Pandemics in collaboration with the Canadian Public Health Association presents a webinar for public health professionals to hear the latest research on indoor air transmission of infectious diseases and strategies to reduce exposure. This webinar is a preview to the symposium\, “Something in the air: Towards a new understanding of aerosols and respiratory disease transmission”\, that will be presented at Public Health 2024 in Halifax this April. \nPresentation Topics\nAerosols and Pandemics\nRaymond Tellier (McGill University) will introduce the concept and definition of respiratory bioaerosols\, and review some of the abundant scientific evidence supporting an important role for aerosol transmission of influenza A virus and SARs-CoV-2 virus\, 2 agents with a proven pandemic capacity. \nPreventing indoor air exposures through engineered strategies\nEPIC member Sarah Haines will present her recent work on portable air cleaners to detect SARs-CoV-2 as well as identifying ventilation and other strategies that may be beneficial in reducing viral exposure.
URL:https://epic.utoronto.ca/event/indoor-air-and-infectious-disease-transmission/
LOCATION:Zoom
CATEGORIES:Virtual,Webinar
ATTACH;FMTTYPE=image/png:https://epic.utoronto.ca/wp-content/uploads/2024/02/Promo-graphic_CPHA-indoor-air-webinar.png
END:VEVENT
BEGIN:VEVENT
DTSTART;TZID=America/Toronto:20240312T110000
DTEND;TZID=America/Toronto:20240312T120000
DTSTAMP:20260421T203822
CREATED:20240301T031259Z
LAST-MODIFIED:20240301T031431Z
UID:4211-1710241200-1710244800@epic.utoronto.ca
SUMMARY:BlueDot’s 2024 Watchlist: The top 5 infectious disease threats you can’t ignore
DESCRIPTION:We are in a new era of infectious diseases – they are emerging with greater frequency and severity. But which ones warrant your attention? Learn about the next wave of threats impacting populations around the globe in our latest webinar on the top 5 infectious disease threats that you can’t ignore! \nBlueDot\, a leader in infectious disease intelligence\, invites you to an exclusive webinar where we unveil our 2024 Watchlist. In this session\, they’ll dive into the top 5 infectious disease threats that demand your attention\, and they’ll explore their potential impact. Gain a comprehensive understanding of the current infectious disease landscape and equip yourself with the tools to navigate the evolving challenges\, ensuring readiness and resilience in the face of emerging health threats. \nKey topics covered will include: \n\nInsights into threats: Be aware of emerging and existing infectious diseases that are gaining momentum\, and get detailed insights into their characteristics\, transmission dynamics\, and potential consequences.\nComparative risk assessment: Explore the comparative risks posed by seasonal diseases\, endemic diseases\, and outbreaks and grasp the unique factors influencing the harm caused by each.\nProactive mitigation strategies: Discover best practices for implementing proactive public health measures and collaboration strategies\, empowering youwith the knowledge needed to effectively mitigate and respond to emerging threats.\n\nJoin BlueDot for an informative and interactive session that equips you with the knowledge to navigate the evolving landscape. Secure your spot now to dive into infectious disease threats and be part of the conversation. \nRegister for free to reserve your spot!
URL:https://epic.utoronto.ca/event/bluedots-2024-watchlist-the-top-5-infectious-disease-threats-you-cant-ignore/
CATEGORIES:Virtual,Webinar
ATTACH;FMTTYPE=image/webp:https://epic.utoronto.ca/wp-content/uploads/2024/02/BlueDots-top-5-disease-threats-for-2024-1920x1080-1-1536x864-1.webp
END:VEVENT
BEGIN:VEVENT
DTSTART;TZID=America/Toronto:20240319T110000
DTEND;TZID=America/Toronto:20240319T120000
DTSTAMP:20260421T203822
CREATED:20240301T022937Z
LAST-MODIFIED:20240301T022937Z
UID:4209-1710846000-1710849600@epic.utoronto.ca
SUMMARY:Community Consultation: Refreshing Canada’s Strategy for Patient-Oriented Research
DESCRIPTION:The Canadian Institute for Health Research (CIHR)\, along with SPOR partners\, is leading a process to refresh Canada’s Strategy for Patient Oriented Research. \nThe Division of the Vice-President\, Research and Innovation is inviting researchers at the University of Toronto to help shape the future directions of SPOR by participating in a University of Toronto facilitated Community Consultation on Tuesday March 19th from 11:00am to 12:00pm. Feedback from this virtual consultation will be collated and shared with CIHR. \nIn addition to the virtual community consultation\, participants can submit additional feedback via the U of T hosted survey (closes March 19th\, 2024).
URL:https://epic.utoronto.ca/event/community-consultation-refreshing-canadas-strategy-for-patient-oriented-research/
CATEGORIES:Virtual
END:VEVENT
BEGIN:VEVENT
DTSTART;TZID=America/Toronto:20240319T120000
DTEND;TZID=America/Toronto:20240319T133000
DTSTAMP:20260421T203822
CREATED:20240301T020352Z
LAST-MODIFIED:20240301T021315Z
UID:4204-1710849600-1710855000@epic.utoronto.ca
SUMMARY:Health\, Equity and Research Talks (HEaRT): Advancing Gender Equity in Academic Medicine
DESCRIPTION:While evidence shows that gender equity is better for health policy-making and patient care\, gender inequity remains a problem in health care and academic health settings. In celebration of International Women’s Day\, Dr. Larissa Shamseer (MSc\, PhD) and Dr. Nicole Doria (MA\, PhD)\, post-doctoral researchers with the Knowledge Translation Program of the Li Ka Shing Knowledge Institute\, will explore the occurrence of gender inequity in medicine and academic science\, why gender equity is important\, the consequences of COVID on gender equity\, and provide strategies to promote gender equity\, such as behavioural or systemic change\, targeted interventions\, career flexibility\, increased visibility\, recognition\, and representation\, mentorship and sponsorship opportunities\, and financial support. The presentation will be followed by questions from the audience\, co-moderated by Samar Saneinejad\, Senior Director\, Strategy and Co-Chair of the Research EDI (REDI) Task Force and Denese Frans-Joseph\, Research Equity Specialist and Co-Chair of the REDI Task Force at Unity Health Toronto.
URL:https://epic.utoronto.ca/event/health-equity-and-research-talks-heart-advancing-gender-equity-in-academic-medicine/
CATEGORIES:Virtual,Webinar
END:VEVENT
END:VCALENDAR