BEGIN:VCALENDAR
VERSION:2.0
PRODID:-//EPIC Emerging &amp; Pandemic Infections Consortium - ECPv6.15.11//NONSGML v1.0//EN
CALSCALE:GREGORIAN
METHOD:PUBLISH
X-WR-CALNAME:EPIC Emerging &amp; Pandemic Infections Consortium
X-ORIGINAL-URL:https://epic.utoronto.ca
X-WR-CALDESC:Events for EPIC Emerging &amp; Pandemic Infections Consortium
REFRESH-INTERVAL;VALUE=DURATION:PT1H
X-Robots-Tag:noindex
X-PUBLISHED-TTL:PT1H
BEGIN:VTIMEZONE
TZID:America/Toronto
BEGIN:DAYLIGHT
TZOFFSETFROM:-0500
TZOFFSETTO:-0400
TZNAME:EDT
DTSTART:20230312T070000
END:DAYLIGHT
BEGIN:STANDARD
TZOFFSETFROM:-0400
TZOFFSETTO:-0500
TZNAME:EST
DTSTART:20231105T060000
END:STANDARD
BEGIN:DAYLIGHT
TZOFFSETFROM:-0500
TZOFFSETTO:-0400
TZNAME:EDT
DTSTART:20240310T070000
END:DAYLIGHT
BEGIN:STANDARD
TZOFFSETFROM:-0400
TZOFFSETTO:-0500
TZNAME:EST
DTSTART:20241103T060000
END:STANDARD
BEGIN:DAYLIGHT
TZOFFSETFROM:-0500
TZOFFSETTO:-0400
TZNAME:EDT
DTSTART:20250309T070000
END:DAYLIGHT
BEGIN:STANDARD
TZOFFSETFROM:-0400
TZOFFSETTO:-0500
TZNAME:EST
DTSTART:20251102T060000
END:STANDARD
END:VTIMEZONE
BEGIN:VEVENT
DTSTART;TZID=America/Toronto:20241113T100000
DTEND;TZID=America/Toronto:20241113T113000
DTSTAMP:20260420T114433
CREATED:20241022T192851Z
LAST-MODIFIED:20241026T164408Z
UID:5156-1731492000-1731497400@epic.utoronto.ca
SUMMARY:Research Ethics in the Health Sciences Info Session
DESCRIPTION:The Human Research Ethics Unit is hosting an informational session to address research ethics in all types of research involving human participants in the health sciences. This seminar includes a talk by Daniel Gyewu\, Research Ethics Board Manager\, Health Sciences\, followed by a Q&A session. \nTopics to be discussed: \n\nHistory and principles behind research ethics review\nProcedures under Tri-council policy statement: Ethical conduct for research involving humans\nUT’s risk matrix for assessing participant vulnerability and research risk\nFree & informed consent\, privacy & confidentiality\, conflict of interest\, inclusion/exclusion criteria\nQuestions and discussion relating to specific projects and methods\n\nDate: November 13 \nTime: 10 – 11:30 AM \nProgram: Centre for Research & Innovation Support (CRIS) \nClick here to know more and register for the event.
URL:https://epic.utoronto.ca/event/seminar-research-ethics-in-the-health-sciences-info-session/
CATEGORIES:Seminar,Virtual
ATTACH;FMTTYPE=image/png:https://epic.utoronto.ca/wp-content/uploads/2024/10/November-info-session.png
END:VEVENT
BEGIN:VEVENT
DTSTART;TZID=America/Toronto:20241113T133000
DTEND;TZID=America/Toronto:20241113T150000
DTSTAMP:20260420T114433
CREATED:20241031T185303Z
LAST-MODIFIED:20241031T185303Z
UID:5274-1731504600-1731510000@epic.utoronto.ca
SUMMARY:Fighting the Trolls: How Researchers can Navigate Online Spaces More Safely
DESCRIPTION:This virtual seminar is offered by The Centre for Research & Innovation Support (CRIS) and The Conversation Canada and aimed at mitigating online harassment and trolling related to sharing research findings on social media and other digital platforms. \nThis online workshop offers evidence-based strategies for scholars to mitigate the perils of online environments. \nFor registration details\, visit CRIS event page
URL:https://epic.utoronto.ca/event/fighting-the-trolls-how-researchers-can-navigate-online-spaces-more-safely/
CATEGORIES:Seminar,Virtual
END:VEVENT
END:VCALENDAR