BEGIN:VCALENDAR
VERSION:2.0
PRODID:-//EPIC Emerging &amp; Pandemic Infections Consortium - ECPv6.15.11//NONSGML v1.0//EN
CALSCALE:GREGORIAN
METHOD:PUBLISH
X-ORIGINAL-URL:https://epic.utoronto.ca
X-WR-CALDESC:Events for EPIC Emerging &amp; Pandemic Infections Consortium
REFRESH-INTERVAL;VALUE=DURATION:PT1H
X-Robots-Tag:noindex
X-PUBLISHED-TTL:PT1H
BEGIN:VTIMEZONE
TZID:America/Toronto
BEGIN:DAYLIGHT
TZOFFSETFROM:-0500
TZOFFSETTO:-0400
TZNAME:EDT
DTSTART:20240310T070000
END:DAYLIGHT
BEGIN:STANDARD
TZOFFSETFROM:-0400
TZOFFSETTO:-0500
TZNAME:EST
DTSTART:20241103T060000
END:STANDARD
BEGIN:DAYLIGHT
TZOFFSETFROM:-0500
TZOFFSETTO:-0400
TZNAME:EDT
DTSTART:20250309T070000
END:DAYLIGHT
BEGIN:STANDARD
TZOFFSETFROM:-0400
TZOFFSETTO:-0500
TZNAME:EST
DTSTART:20251102T060000
END:STANDARD
BEGIN:DAYLIGHT
TZOFFSETFROM:-0500
TZOFFSETTO:-0400
TZNAME:EDT
DTSTART:20260308T070000
END:DAYLIGHT
BEGIN:STANDARD
TZOFFSETFROM:-0400
TZOFFSETTO:-0500
TZNAME:EST
DTSTART:20261101T060000
END:STANDARD
END:VTIMEZONE
BEGIN:VEVENT
DTSTART;TZID=America/Toronto:20250408T120000
DTEND;TZID=America/Toronto:20250408T130000
DTSTAMP:20260422T010035
CREATED:20250326T190420Z
LAST-MODIFIED:20250326T190420Z
UID:5913-1744113600-1744117200@epic.utoronto.ca
SUMMARY:Opportunities for prevention: Group B Streptococcus vaccines under development
DESCRIPTION:Group B Streptococcus (GBS) causes serious and fatal infections in newborns and is the leading cause of neonatal sepsis and meningitis. \nIn this webinar co-hosted by the Centre for Vaccine Preventable Diseases\, Eliana Castillo\, Kirsty Le Doare and Ziyaad Dangor will discuss the latest clinical findings on GBS vaccine candidates and outline a path to vaccine commercialization. \nDate and time: April 8\, noon EDT \nLocation: Virtual on Zoom \nRegister here via CVPD!
URL:https://epic.utoronto.ca/event/opportunities-for-prevention-group-b-streptococcus-vaccines-under-development/
LOCATION:Virtual
CATEGORIES:Virtual,Webinar
ATTACH;FMTTYPE=image/jpeg:https://epic.utoronto.ca/wp-content/uploads/2025/03/CVPD-April-webinar.jpg
END:VEVENT
BEGIN:VEVENT
DTSTART;TZID=America/Toronto:20250429T171500
DTEND;TZID=America/Toronto:20250429T190000
DTSTAMP:20260422T010035
CREATED:20250313T204026Z
LAST-MODIFIED:20250313T204319Z
UID:5836-1745946900-1745953200@epic.utoronto.ca
SUMMARY:Find out more about the Translational Research Program (TRP): information session April 2025
DESCRIPTION:This is an online presentation and discussion with the TRP Director\, faculty and staff for prospective students interested in learning more about the Master of Health Science (MHSc) in Translational Research graduate degree program. \nMHSc is a project-based graduate degree for people from diverse backgrounds and career stages interested in innovation in healthcare. Participants will explore strategies\, competencies\, and creative problem-solving approaches to apply innovation in people-centered processes\,  products\, and services relevant to healthcare. \nDate and time: April 29\, 5:15 – 7:00 pm EDT \nLocation: Virtual on Zoom \nRegister here via the TRP eventpage!
URL:https://epic.utoronto.ca/event/find-out-more-about-the-translational-research-program-trp-information-session-april-2025/
LOCATION:Virtual on Zoom
CATEGORIES:Info session,Virtual
ATTACH;FMTTYPE=image/png:https://epic.utoronto.ca/wp-content/uploads/2025/03/TRP-Image-2025.png
END:VEVENT
END:VCALENDAR