BEGIN:VCALENDAR
VERSION:2.0
PRODID:-//EPIC Emerging &amp; Pandemic Infections Consortium - ECPv6.15.11//NONSGML v1.0//EN
CALSCALE:GREGORIAN
METHOD:PUBLISH
X-WR-CALNAME:EPIC Emerging &amp; Pandemic Infections Consortium
X-ORIGINAL-URL:https://epic.utoronto.ca
X-WR-CALDESC:Events for EPIC Emerging &amp; Pandemic Infections Consortium
REFRESH-INTERVAL;VALUE=DURATION:PT1H
X-Robots-Tag:noindex
X-PUBLISHED-TTL:PT1H
BEGIN:VTIMEZONE
TZID:America/Toronto
BEGIN:DAYLIGHT
TZOFFSETFROM:-0500
TZOFFSETTO:-0400
TZNAME:EDT
DTSTART:20250309T070000
END:DAYLIGHT
BEGIN:STANDARD
TZOFFSETFROM:-0400
TZOFFSETTO:-0500
TZNAME:EST
DTSTART:20251102T060000
END:STANDARD
BEGIN:DAYLIGHT
TZOFFSETFROM:-0500
TZOFFSETTO:-0400
TZNAME:EDT
DTSTART:20260308T070000
END:DAYLIGHT
BEGIN:STANDARD
TZOFFSETFROM:-0400
TZOFFSETTO:-0500
TZNAME:EST
DTSTART:20261101T060000
END:STANDARD
BEGIN:DAYLIGHT
TZOFFSETFROM:-0500
TZOFFSETTO:-0400
TZNAME:EDT
DTSTART:20270314T070000
END:DAYLIGHT
BEGIN:STANDARD
TZOFFSETFROM:-0400
TZOFFSETTO:-0500
TZNAME:EST
DTSTART:20271107T060000
END:STANDARD
END:VTIMEZONE
BEGIN:VEVENT
DTSTART;TZID=America/Toronto:20260113T120000
DTEND;TZID=America/Toronto:20260113T130000
DTSTAMP:20260420T014519
CREATED:20251211T163516Z
LAST-MODIFIED:20260107T223248Z
UID:6969-1768305600-1768309200@epic.utoronto.ca
SUMMARY:Catalyst Seminar Series - Session 4: Supporting vulnerable populations
DESCRIPTION:The Catalyst Seminar Series is hosted by the Institute for Health Emergencies & Pandemics (IHEP) at the University of Toronto. The aim of this series is to spotlight the innovative work of interdisciplinary teams tackling urgent challenges in pandemic and public health emergency\, preparedness\, response\, and recovery. \nThis fourth session will be virtual and feature presentations on the following projects: \n\n\n\nUnderstanding the Impact of COVID-19 on Communities Made Vulnerable by Social and Economic Conditions and the Subsequent Policy Response in Canada\, presented by Andrew Pinto (St. Michael’s hospital)\nLeveraging Data Science to Improve Vaccine Equity and Pandemic Preparedness Among Children Who are Newcomers to Canada\, presented by Shaun Morris (The Hospital for Sick Children)\n\n\n\n\nDate: January 13th\, 2026 \nTime: 12:00 – 1:00 p.m. \nLocation: Virtual \n\nPlease see this link for more details and to register for the session.
URL:https://epic.utoronto.ca/event/catalyst-seminar-series-session-4-supporting-vulnerable-populations/
LOCATION:Virtual
CATEGORIES:Virtual,Webinar
ATTACH;FMTTYPE=image/png:https://epic.utoronto.ca/wp-content/uploads/2025/12/Session-4-January-graphic-1024x576-1.png
END:VEVENT
BEGIN:VEVENT
DTSTART;TZID=America/Toronto:20260120T120000
DTEND;TZID=America/Toronto:20260120T133000
DTSTAMP:20260420T014519
CREATED:20251211T161941Z
LAST-MODIFIED:20260107T223411Z
UID:6961-1768910400-1768915800@epic.utoronto.ca
SUMMARY:Creating and presenting posters or infographics
DESCRIPTION:This three-part virtual workshop series is hosted by the Canadian Antimicrobial Resistance Network (CAN-AMR-Net) and is open exclusively to CAN-AMR-Net trainees in Canada. You can register to become a member on their website. \nThis science communication workshop series will help you communicate your research clearly and confidently across different audiences and platforms. Trainees can attend any single session or join all three for a fuller skill set. Each workshop is practical\, interactive\, and designed to strengthen how you share your science within and beyond the AMR community. \nRegister for the series using this link! \nSession 1 Information: \nTitle: Creating and Presenting Posters or Inforgraphics \nLearning Objectives:  \n\nHow to design research posters and infographics for academic\, industry\, and government audiences \nHow to walk an audience through visual materials in a conference or stakeholder setting\n\nDate: January 20th\, 2026 \nTime: 12:00 – 1:30 p.m. EST \nLocation: Virtual (Register to access a link to attend) \nCost: FREE for CAN-AMR-Net trainees. \n 
URL:https://epic.utoronto.ca/event/creating-and-presenting-posters-or-infographics/
LOCATION:Virtual
CATEGORIES:Trainee-only event,Virtual,Workshop
END:VEVENT
END:VCALENDAR