BEGIN:VCALENDAR
VERSION:2.0
PRODID:-//EPIC Emerging &amp; Pandemic Infections Consortium - ECPv6.15.11//NONSGML v1.0//EN
CALSCALE:GREGORIAN
METHOD:PUBLISH
X-WR-CALNAME:EPIC Emerging &amp; Pandemic Infections Consortium
X-ORIGINAL-URL:https://epic.utoronto.ca
X-WR-CALDESC:Events for EPIC Emerging &amp; Pandemic Infections Consortium
REFRESH-INTERVAL;VALUE=DURATION:PT1H
X-Robots-Tag:noindex
X-PUBLISHED-TTL:PT1H
BEGIN:VTIMEZONE
TZID:America/Toronto
BEGIN:DAYLIGHT
TZOFFSETFROM:-0500
TZOFFSETTO:-0400
TZNAME:EDT
DTSTART:20230312T070000
END:DAYLIGHT
BEGIN:STANDARD
TZOFFSETFROM:-0400
TZOFFSETTO:-0500
TZNAME:EST
DTSTART:20231105T060000
END:STANDARD
BEGIN:DAYLIGHT
TZOFFSETFROM:-0500
TZOFFSETTO:-0400
TZNAME:EDT
DTSTART:20240310T070000
END:DAYLIGHT
BEGIN:STANDARD
TZOFFSETFROM:-0400
TZOFFSETTO:-0500
TZNAME:EST
DTSTART:20241103T060000
END:STANDARD
BEGIN:DAYLIGHT
TZOFFSETFROM:-0500
TZOFFSETTO:-0400
TZNAME:EDT
DTSTART:20250309T070000
END:DAYLIGHT
BEGIN:STANDARD
TZOFFSETFROM:-0400
TZOFFSETTO:-0500
TZNAME:EST
DTSTART:20251102T060000
END:STANDARD
END:VTIMEZONE
BEGIN:VEVENT
DTSTART;TZID=America/Toronto:20241211T120000
DTEND;TZID=America/Toronto:20241211T130000
DTSTAMP:20260422T032522
CREATED:20241211T143431Z
LAST-MODIFIED:20241211T143431Z
UID:5407-1733918400-1733922000@epic.utoronto.ca
SUMMARY:Utilization of antibody-based approaches for the detection of SARS-CoV-2 and the elucidation of tyrosine sulfation
DESCRIPTION:Leslie Leung\, a PhD student supervised by Goetz Ehrhardt in the Department of Immunology will present at the PhD Research Seminar. \nThe hybrid event can be attended in person at the Medical Sciences Building\, Room 7231 or via Zoom. \nDate: December 11th \nTime: 12:00 – 1:00 PM
URL:https://epic.utoronto.ca/event/utilization-of-antibody-based-approaches-for-the-detection-of-sars-cov-2-and-the-elucidation-of-tyrosine-sulfation/
LOCATION:MSB 7231
CATEGORIES:Hybrid,In-person,Virtual
END:VEVENT
END:VCALENDAR