BEGIN:VCALENDAR
VERSION:2.0
PRODID:-//EPIC Emerging &amp; Pandemic Infections Consortium - ECPv6.15.11//NONSGML v1.0//EN
CALSCALE:GREGORIAN
METHOD:PUBLISH
X-WR-CALNAME:EPIC Emerging &amp; Pandemic Infections Consortium
X-ORIGINAL-URL:https://epic.utoronto.ca
X-WR-CALDESC:Events for EPIC Emerging &amp; Pandemic Infections Consortium
REFRESH-INTERVAL;VALUE=DURATION:PT1H
X-Robots-Tag:noindex
X-PUBLISHED-TTL:PT1H
BEGIN:VTIMEZONE
TZID:America/Toronto
BEGIN:DAYLIGHT
TZOFFSETFROM:-0500
TZOFFSETTO:-0400
TZNAME:EDT
DTSTART:20250309T070000
END:DAYLIGHT
BEGIN:STANDARD
TZOFFSETFROM:-0400
TZOFFSETTO:-0500
TZNAME:EST
DTSTART:20251102T060000
END:STANDARD
BEGIN:DAYLIGHT
TZOFFSETFROM:-0500
TZOFFSETTO:-0400
TZNAME:EDT
DTSTART:20260308T070000
END:DAYLIGHT
BEGIN:STANDARD
TZOFFSETFROM:-0400
TZOFFSETTO:-0500
TZNAME:EST
DTSTART:20261101T060000
END:STANDARD
BEGIN:DAYLIGHT
TZOFFSETFROM:-0500
TZOFFSETTO:-0400
TZNAME:EDT
DTSTART:20270314T070000
END:DAYLIGHT
BEGIN:STANDARD
TZOFFSETFROM:-0400
TZOFFSETTO:-0500
TZNAME:EST
DTSTART:20271107T060000
END:STANDARD
END:VTIMEZONE
BEGIN:VEVENT
DTSTART;TZID=America/Toronto:20260203T120000
DTEND;TZID=America/Toronto:20260203T133000
DTSTAMP:20260422T012124
CREATED:20251211T162114Z
LAST-MODIFIED:20260107T223224Z
UID:6965-1770120000-1770125400@epic.utoronto.ca
SUMMARY:Communicating research to different audiences
DESCRIPTION:This three-part virtual workshop series is hosted by the Canadian Antimicrobial Resistance Network (CAN-AMR-Net) and is open exclusively to CAN-AMR-Net trainees in Canada. You can register to become a member on their website. \nThis science communication workshop series will help you communicate your research clearly and confidently across different audiences and platforms. Trainees can attend any single session or join all three for a fuller skill set. Each workshop is practical\, interactive\, and designed to strengthen how you share your science within and beyond the AMR community. \nRegister for the series using this link! \nSession 2 Information: \nTitle: Communicating Research to Different Audiences \nLearning Objectives:  \n\nStrategies to frame and adapt key messages for distinct audiences (e.g.\, the public\, policymakers\, industry\, academics).\nPractice with formats such as the elevator pitch and the 3-Minute Thesis (3MT).\n\n  \nDate: February 3rd\, 2026 \nTime: 12:00 – 1:30 p.m. EST \nLocation: Virtual (Register to access a link to attend) \nCost: FREE for CAN-AMR-Net trainees. \n 
URL:https://epic.utoronto.ca/event/communicating-research-to-different-audiences/
LOCATION:Virtual
CATEGORIES:Trainee-only event,Virtual,Workshop
END:VEVENT
BEGIN:VEVENT
DTSTART;TZID=America/Toronto:20260203T130000
DTEND;TZID=America/Toronto:20260203T140000
DTSTAMP:20260422T012124
CREATED:20260203T170705Z
LAST-MODIFIED:20260203T170705Z
UID:7223-1770123600-1770127200@epic.utoronto.ca
SUMMARY:Drugs associated with Clostridioides difficile infection (CDI) risk; results of a pharmacopoeia-wide case-cohort study
DESCRIPTION:Join the Division of Infectious Diseases at the Temerty Faculty of Medicine for their weekly city-wide Infectious Disease and Microbiology (ID/Micro) Rounds. \nThis week’s rounds will be led by Kevin Brown (Public Health Ontario) and will cover the following topic: “Drugs associated with Clostridioides difficile infection (CDI) risk; results of a pharmacopoeia-wide case-cohort study” \nDate: 3 February 2026 \nTime: 1:00 – 2:00 p.m. \nLocation: Virtual \nJoin Zoom Meeting\nhttps://utoronto.zoom.us/j/81891666843\nMeeting ID: 818 9166 6843\nPasscode: 499022
URL:https://epic.utoronto.ca/event/drugs-associated-with-clostridioides-difficile-infection-cdi-risk-results-of-a-pharmacopoeia-wide-case-cohort-study/
LOCATION:Virtual on Zoom
CATEGORIES:Seminar,Virtual
ORGANIZER;CN="Infectious Disease Departmental Division%2C University of Toronto":MAILTO:claire.destefano@sinaihealth.ca
END:VEVENT
END:VCALENDAR