BEGIN:VCALENDAR
VERSION:2.0
PRODID:-//EPIC Emerging &amp; Pandemic Infections Consortium - ECPv6.15.11//NONSGML v1.0//EN
CALSCALE:GREGORIAN
METHOD:PUBLISH
X-ORIGINAL-URL:https://epic.utoronto.ca
X-WR-CALDESC:Events for EPIC Emerging &amp; Pandemic Infections Consortium
REFRESH-INTERVAL;VALUE=DURATION:PT1H
X-Robots-Tag:noindex
X-PUBLISHED-TTL:PT1H
BEGIN:VTIMEZONE
TZID:America/Toronto
BEGIN:DAYLIGHT
TZOFFSETFROM:-0500
TZOFFSETTO:-0400
TZNAME:EDT
DTSTART:20250309T070000
END:DAYLIGHT
BEGIN:STANDARD
TZOFFSETFROM:-0400
TZOFFSETTO:-0500
TZNAME:EST
DTSTART:20251102T060000
END:STANDARD
BEGIN:DAYLIGHT
TZOFFSETFROM:-0500
TZOFFSETTO:-0400
TZNAME:EDT
DTSTART:20260308T070000
END:DAYLIGHT
BEGIN:STANDARD
TZOFFSETFROM:-0400
TZOFFSETTO:-0500
TZNAME:EST
DTSTART:20261101T060000
END:STANDARD
BEGIN:DAYLIGHT
TZOFFSETFROM:-0500
TZOFFSETTO:-0400
TZNAME:EDT
DTSTART:20270314T070000
END:DAYLIGHT
BEGIN:STANDARD
TZOFFSETFROM:-0400
TZOFFSETTO:-0500
TZNAME:EST
DTSTART:20271107T060000
END:STANDARD
END:VTIMEZONE
BEGIN:VEVENT
DTSTART;TZID=America/Toronto:20260421T120000
DTEND;TZID=America/Toronto:20260421T130000
DTSTAMP:20260421T102220
CREATED:20260410T141347Z
LAST-MODIFIED:20260410T141401Z
UID:7622-1776772800-1776776400@epic.utoronto.ca
SUMMARY:Reaching the HPV elimination goal: Updates on innovative primary and secondary HPV prevention strategies
DESCRIPTION:Join the Centre for Vaccine Preventable Diseases as they kick of National Immunization Awareness Week with a webinar on “Reaching the HPV elimination goal: Updates on innovative primary and secondary HPV prevention strategies“. \nThis webinar will feature talks from Chantal Sauvageau (Quebec Public Health National Institute) and Gina Ogilvie (BC Centre for Disease Control) who will present recent findings on the immunogenicity and efficacy of a one-dose HPV vaccine schedule in girls and boys\, as well as cervical cancer screening strategies\, particularly those using self-sampling. A Q&A session will follow these engaging talks.  \nDate: 21 April 2026 \nTime: 12:00 – 1:00 p.m. \nLocation: Virtual on Zoom \nPlease register for the webinar using this form.
URL:https://epic.utoronto.ca/event/reaching-the-hpv-elimination-goal-updates-on-innovative-primary-and-secondary-hpv-prevention-strategies/
LOCATION:Virtual on Zoom
CATEGORIES:Seminar,Virtual,Webinar
ATTACH;FMTTYPE=image/jpeg:https://epic.utoronto.ca/wp-content/uploads/2026/04/CVPD_Webinar_April_2026.jpg
END:VEVENT
BEGIN:VEVENT
DTSTART;TZID=America/Toronto:20260421T130000
DTEND;TZID=America/Toronto:20260421T140000
DTSTAMP:20260421T102220
CREATED:20260407T175158Z
LAST-MODIFIED:20260407T175448Z
UID:7588-1776776400-1776780000@epic.utoronto.ca
SUMMARY:A brush with uncertainty: Endemic mycoses in people living with HIV
DESCRIPTION:Join the Division of Infectious Diseases at the Temerty Faculty of Medicine for their weekly city-wide Infectious Disease and Microbiology (ID/Micro) Rounds. \nThis week’s rounds will be led by Joel George (Sunnybrook Health Sciences Centre) and will cover the following topic: “A brush with uncertainty: Endemic mycoses in people living with HIV” \nDate: 21 April 2026 \nTime: 1:00 – 2:00 p.m. \nLocation: Virtual \nJoin Zoom Meeting\nhttps://utoronto.zoom.us/j/81891666843\nMeeting ID: 818 9166 6843\nPasscode: 499022
URL:https://epic.utoronto.ca/event/a-brush-with-uncertainty-endemic-mycoses-in-people-living-with-hiv/
LOCATION:Virtual on Zoom
CATEGORIES:Seminar,Virtual
ORGANIZER;CN="Infectious Disease Departmental Division%2C University of Toronto":MAILTO:claire.destefano@sinaihealth.ca
END:VEVENT
END:VCALENDAR