BEGIN:VCALENDAR
VERSION:2.0
PRODID:-//EPIC Emerging &amp; Pandemic Infections Consortium - ECPv6.15.11//NONSGML v1.0//EN
CALSCALE:GREGORIAN
METHOD:PUBLISH
X-WR-CALNAME:EPIC Emerging &amp; Pandemic Infections Consortium
X-ORIGINAL-URL:https://epic.utoronto.ca
X-WR-CALDESC:Events for EPIC Emerging &amp; Pandemic Infections Consortium
REFRESH-INTERVAL;VALUE=DURATION:PT1H
X-Robots-Tag:noindex
X-PUBLISHED-TTL:PT1H
BEGIN:VTIMEZONE
TZID:America/Toronto
BEGIN:DAYLIGHT
TZOFFSETFROM:-0500
TZOFFSETTO:-0400
TZNAME:EDT
DTSTART:20230312T070000
END:DAYLIGHT
BEGIN:STANDARD
TZOFFSETFROM:-0400
TZOFFSETTO:-0500
TZNAME:EST
DTSTART:20231105T060000
END:STANDARD
BEGIN:DAYLIGHT
TZOFFSETFROM:-0500
TZOFFSETTO:-0400
TZNAME:EDT
DTSTART:20240310T070000
END:DAYLIGHT
BEGIN:STANDARD
TZOFFSETFROM:-0400
TZOFFSETTO:-0500
TZNAME:EST
DTSTART:20241103T060000
END:STANDARD
BEGIN:DAYLIGHT
TZOFFSETFROM:-0500
TZOFFSETTO:-0400
TZNAME:EDT
DTSTART:20250309T070000
END:DAYLIGHT
BEGIN:STANDARD
TZOFFSETFROM:-0400
TZOFFSETTO:-0500
TZNAME:EST
DTSTART:20251102T060000
END:STANDARD
END:VTIMEZONE
BEGIN:VEVENT
DTSTART;TZID=America/Toronto:20241114T120000
DTEND;TZID=America/Toronto:20241114T120000
DTSTAMP:20260421T025551
CREATED:20241022T191954Z
LAST-MODIFIED:20241026T163108Z
UID:5152-1731585600-1731585600@epic.utoronto.ca
SUMMARY:Vaccines in Older Individuals: Barriers to uptake and possible solutions
DESCRIPTION:Join EPIC faculty member Allison McGeer (Mount Sinai Hospital)\, and speakers Christine Fahim (St. Michael’s Hospital) and Melissa Andrew (Dalhousie University) in this Centre for Vaccine Preventable Diseases (CVPD) hosted webinar. Presentations will explore the reasons for sub-optimal immunization coverage for older adults in Canada\, including complex eligibility criteria\, access issues\, hesitancy from older individuals or lack of prioritization from healthcare providers. \nTo register for this virtual event\, click here. \nDate: November 14 \nTime: 12 PM EST
URL:https://epic.utoronto.ca/event/webinar-vaccines-in-older-individuals-barriers-to-uptake-and-possible-solutions-2/
LOCATION:Virtual on Zoom
CATEGORIES:Webinar
ATTACH;FMTTYPE=image/png:https://epic.utoronto.ca/wp-content/uploads/2024/10/CVPD-november-webinar.png
END:VEVENT
BEGIN:VEVENT
DTSTART;TZID=America/Toronto:20241126T110000
DTEND;TZID=America/Toronto:20241126T120000
DTSTAMP:20260421T025551
CREATED:20241113T222022Z
LAST-MODIFIED:20241113T222022Z
UID:5334-1732618800-1732622400@epic.utoronto.ca
SUMMARY:Emerging pathogen threats: Strategies for infection prevention & control
DESCRIPTION:The landscape of infectious diseases is rapidly evolving\, presenting new challenges for governments\, enterprise organizations\, and particularly those in the infection prevention space. \nHosted by BlueDot\, this webinar offers an updated list of high-consequence pathogens that require attention and aims to provide the knowledge and tools necessary to address emerging threats and enhance infection control practices. \nDate and time: November 26th\, 11 AM ET \nRegister here!
URL:https://epic.utoronto.ca/event/emerging-pathogen-threats-strategies-for-infection-prevention-control/
CATEGORIES:Webinar
ATTACH;FMTTYPE=image/png:https://epic.utoronto.ca/wp-content/uploads/2024/11/Bluedot-nov-webinar.png
END:VEVENT
END:VCALENDAR