BEGIN:VCALENDAR
VERSION:2.0
PRODID:-//EPIC Emerging &amp; Pandemic Infections Consortium - ECPv6.15.11//NONSGML v1.0//EN
CALSCALE:GREGORIAN
METHOD:PUBLISH
X-WR-CALNAME:EPIC Emerging &amp; Pandemic Infections Consortium
X-ORIGINAL-URL:https://epic.utoronto.ca
X-WR-CALDESC:Events for EPIC Emerging &amp; Pandemic Infections Consortium
REFRESH-INTERVAL;VALUE=DURATION:PT1H
X-Robots-Tag:noindex
X-PUBLISHED-TTL:PT1H
BEGIN:VTIMEZONE
TZID:America/Toronto
BEGIN:DAYLIGHT
TZOFFSETFROM:-0500
TZOFFSETTO:-0400
TZNAME:EDT
DTSTART:20240310T070000
END:DAYLIGHT
BEGIN:STANDARD
TZOFFSETFROM:-0400
TZOFFSETTO:-0500
TZNAME:EST
DTSTART:20241103T060000
END:STANDARD
BEGIN:DAYLIGHT
TZOFFSETFROM:-0500
TZOFFSETTO:-0400
TZNAME:EDT
DTSTART:20250309T070000
END:DAYLIGHT
BEGIN:STANDARD
TZOFFSETFROM:-0400
TZOFFSETTO:-0500
TZNAME:EST
DTSTART:20251102T060000
END:STANDARD
BEGIN:DAYLIGHT
TZOFFSETFROM:-0500
TZOFFSETTO:-0400
TZNAME:EDT
DTSTART:20260308T070000
END:DAYLIGHT
BEGIN:STANDARD
TZOFFSETFROM:-0400
TZOFFSETTO:-0500
TZNAME:EST
DTSTART:20261101T060000
END:STANDARD
END:VTIMEZONE
BEGIN:VEVENT
DTSTART;TZID=America/Toronto:20251124T120000
DTEND;TZID=America/Toronto:20251124T130000
DTSTAMP:20260421T033415
CREATED:20251030T160419Z
LAST-MODIFIED:20251030T160419Z
UID:6753-1763985600-1763989200@epic.utoronto.ca
SUMMARY:Health Security Unbound: Navigating Power\, Surveillance\, and Ethics
DESCRIPTION:Join the Institute for Pandemics for a webinar titled “Health Security Unbound: Navigating Power\, Surveillance\, and Ethics”  which will explore the security requirements that shape pandemic preparedness\, and the tensions that arise when human rights intersect with military and intelligence interests. \nThe webinar will feature the following speakers: \nChair: Joy Fitzgibbon (Trinity College) \nPanelists: David Fisman (Dalla Lana School of Public Health) and Victoria Haldane (Institute of Health Policy\, Management and Evaluation) \nDate: 24 November 2025 \nTime: 12:00 – 1:00 p.m. \nplease register for the webinar here!
URL:https://epic.utoronto.ca/event/health-security-unbound-navigating-power-surveillance-and-ethics/
LOCATION:Virtual
CATEGORIES:Virtual,Webinar
ATTACH;FMTTYPE=image/png:https://epic.utoronto.ca/wp-content/uploads/2025/10/Health-Security-webinar-IfP-graphic.png
END:VEVENT
END:VCALENDAR