BEGIN:VCALENDAR
VERSION:2.0
PRODID:-//EPIC Emerging &amp; Pandemic Infections Consortium - ECPv6.15.11//NONSGML v1.0//EN
CALSCALE:GREGORIAN
METHOD:PUBLISH
X-ORIGINAL-URL:https://epic.utoronto.ca
X-WR-CALDESC:Events for EPIC Emerging &amp; Pandemic Infections Consortium
REFRESH-INTERVAL;VALUE=DURATION:PT1H
X-Robots-Tag:noindex
X-PUBLISHED-TTL:PT1H
BEGIN:VTIMEZONE
TZID:America/Toronto
BEGIN:DAYLIGHT
TZOFFSETFROM:-0500
TZOFFSETTO:-0400
TZNAME:EDT
DTSTART:20240310T070000
END:DAYLIGHT
BEGIN:STANDARD
TZOFFSETFROM:-0400
TZOFFSETTO:-0500
TZNAME:EST
DTSTART:20241103T060000
END:STANDARD
BEGIN:DAYLIGHT
TZOFFSETFROM:-0500
TZOFFSETTO:-0400
TZNAME:EDT
DTSTART:20250309T070000
END:DAYLIGHT
BEGIN:STANDARD
TZOFFSETFROM:-0400
TZOFFSETTO:-0500
TZNAME:EST
DTSTART:20251102T060000
END:STANDARD
BEGIN:DAYLIGHT
TZOFFSETFROM:-0500
TZOFFSETTO:-0400
TZNAME:EDT
DTSTART:20260308T070000
END:DAYLIGHT
BEGIN:STANDARD
TZOFFSETFROM:-0400
TZOFFSETTO:-0500
TZNAME:EST
DTSTART:20261101T060000
END:STANDARD
END:VTIMEZONE
BEGIN:VEVENT
DTSTART;TZID=America/Toronto:20250111T090000
DTEND;TZID=America/Toronto:20250111T163000
DTSTAMP:20260422T154007
CREATED:20241202T205548Z
LAST-MODIFIED:20241202T205937Z
UID:5379-1736586000-1736613000@epic.utoronto.ca
SUMMARY:Byte-Sized Biology: How Artificial Intelligence Decodes Human Health Bit-by-Bit
DESCRIPTION:This conference will take a deep dive into the innovative research conducted by world-renowned researchers on artificial intelligence and human health. It will shed light on the most recent developments in the fields of AI\, machine learning and bioinformatics and explore their untapped potential for human health. The event includes a panel discussion between attendees and invited speakers towards the end of the conference. \nDate: January 11\, 2025\, 9:00 AM to 4:30 PM ET \nPlace: Myhal Centre for Engineering Innovation and Entrepreneurship\, Auditorium (MY150) \nRegister here via the Department of Laboratory Medicine and Pathobiology
URL:https://epic.utoronto.ca/event/byte-sized-biology-how-artificial-intelligence-decodes-human-health-bit-by-bit/
LOCATION:Myhal Centre for Engineering Innovation & Entrepreneurship\, Auditorium\, 55 St. George Street\, Toronto\, ON\, M5S 0C9\, Canada
CATEGORIES:Conference
ATTACH;FMTTYPE=image/jpeg:https://epic.utoronto.ca/wp-content/uploads/2024/12/Byte-sized-biology.jpg
END:VEVENT
BEGIN:VEVENT
DTSTART;TZID=America/Toronto:20250114T100000
DTEND;TZID=America/Toronto:20250114T120000
DTSTAMP:20260422T154007
CREATED:20241218T151448Z
LAST-MODIFIED:20241218T151918Z
UID:5472-1736848800-1736856000@epic.utoronto.ca
SUMMARY:Transforming EDI from Commitment to Operations: Strategies for Sustainable Integration
DESCRIPTION:In this virtual workshop\, participants will understand and reconnect with the importance of Equity\, Diversity and Inclusion (EDI) within institutions and be given practical tools and resources to implement EDI. \nThe session will be facilitated by Jodie Glean-Mitchell\, executive director\, Equity\, Diversity & Inclusion at the University of Toronto \nDate: January 14th \nTime: 10:00 AM – 12:00 PM \nRegister here via the event page
URL:https://epic.utoronto.ca/event/transforming-edi-from-commitment-to-operations-strategies-for-sustainable-integration/
LOCATION:Ontario
CATEGORIES:Virtual
END:VEVENT
BEGIN:VEVENT
DTSTART;TZID=America/Toronto:20250117T100000
DTEND;TZID=America/Toronto:20250117T110000
DTSTAMP:20260422T154007
CREATED:20250108T211607Z
LAST-MODIFIED:20250110T164256Z
UID:5491-1737108000-1737111600@epic.utoronto.ca
SUMMARY:Role of neutrophils in leptospirosis
DESCRIPTION:Offered by The Department of Immunology and hosted by Dana Philpott and Stephen Girardin\, this is a special seminar featuring a talk by Catherine Werts at Institut Pasteur\, Paris\, France. \nLocation: MSB 7231 \nDate and time: January 17th\, 10:00 – 11:00 AM \nVisit the event page for more details. \n 
URL:https://epic.utoronto.ca/event/role-of-neutrophils-in-leptospirosis/
LOCATION:MSB 7231
CATEGORIES:In-person,Seminar
END:VEVENT
BEGIN:VEVENT
DTSTART;TZID=America/Toronto:20250120T100000
DTEND;TZID=America/Toronto:20250120T110000
DTSTAMP:20260422T154007
CREATED:20250110T220907Z
LAST-MODIFIED:20250110T220907Z
UID:5509-1737367200-1737370800@epic.utoronto.ca
SUMMARY:Developing microbiome-targeted therapeutics through community-based metabolic modelling
DESCRIPTION:PhD defense seminar for Irina Utkina\, supervised by EPIC faculty member John Parkinson. \nHosted by the Department of Molecular Genetics \nLocation: “The Pod” in the Leslie Dan Pharmacy Building \nDate and time: January 20th\, 10:00 AM  \nVisit event page for more details. \n 
URL:https://epic.utoronto.ca/event/developing-microbiome-targeted-therapeutics-through-community-based-metabolic-modelling/
LOCATION:“The Pod” Leslie Dan Pharmacy Building\, 144 College Street W\, Toronto\, ON\, Canada
CATEGORIES:In-person,Seminar
END:VEVENT
BEGIN:VEVENT
DTSTART;TZID=America/Toronto:20250123T120000
DTEND;TZID=America/Toronto:20250123T130000
DTSTAMP:20260422T154007
CREATED:20250110T224704Z
LAST-MODIFIED:20250113T173101Z
UID:5514-1737633600-1737637200@epic.utoronto.ca
SUMMARY:Lunch Lectures: Topics and techniques in infectious disease research
DESCRIPTION:Hosted by EPIC Trainee Advisory Committee\, the Lunch Lectures is a seminar series aimed at building skills and knowledge to help trainees in their infectious disease research work. This is an exciting opportunity to hear from senior trainees about how ideas can be applied to your research over pizza lunch. \nThe first lecture of the series will be presented in a hybrid format\, both in person and via Zoom and presented by Anton Hsu\, a postdoctoral fellow in Lea Harrington‘s lab in the Department of Biochemistry\, Temerty Faculty of Medicine. \nTalk title: “At the intersection of infectious disease and cancer: HPV as a driver of cervical carcinoma.” \nLocation: MaRS 1522 \nDate and time: January 23rd\, 12:00 pm
URL:https://epic.utoronto.ca/event/lunch-lectures-topics-and-techniques-in-infectious-disease-research/
LOCATION:MaRS Centre\, Room 1522\, 101 C
CATEGORIES:Hybrid,Lecture
ATTACH;FMTTYPE=image/png:https://epic.utoronto.ca/wp-content/uploads/2025/01/EPIC-TAC-Lunch-lecture-series-Jan-edited.png
END:VEVENT
BEGIN:VEVENT
DTSTART;TZID=America/Toronto:20250127T140000
DTEND;TZID=America/Toronto:20250127T150000
DTSTAMP:20260422T154007
CREATED:20250109T220353Z
LAST-MODIFIED:20250109T220353Z
UID:5493-1737986400-1737990000@epic.utoronto.ca
SUMMARY:Research seminar for graduate students: Advancing equity and social justice through community-engaged research
DESCRIPTION:Hosted by the Institute for Pandemics\, this in-person seminar for U of T graduate students features presentations by Chavon Niles and Lance T. McCready on advancing equity and social justice through community-engaged research. \nLocation:  Haultain Building\, Room 403\, 170 College Street\, Toronto\, ON \nDate and time: January 27th\, 2:00 – 3:00 PM \nRegister here\, via the Institute for Pandemics.
URL:https://epic.utoronto.ca/event/research-seminar-for-graduate-students-advancing-equity-and-social-justice-through-community-engaged-research/
LOCATION:Haultain Building\, Room 403\, 170 College Street\,\, Toronto\, ON\, Canada
CATEGORIES:In-person,Seminar
ATTACH;FMTTYPE=image/png:https://epic.utoronto.ca/wp-content/uploads/2025/01/IfP-Jan-2025-grad-seminar.png
END:VEVENT
END:VCALENDAR