BEGIN:VCALENDAR
VERSION:2.0
PRODID:-//EPIC Emerging &amp; Pandemic Infections Consortium - ECPv6.15.11//NONSGML v1.0//EN
CALSCALE:GREGORIAN
METHOD:PUBLISH
X-WR-CALNAME:EPIC Emerging &amp; Pandemic Infections Consortium
X-ORIGINAL-URL:https://epic.utoronto.ca
X-WR-CALDESC:Events for EPIC Emerging &amp; Pandemic Infections Consortium
REFRESH-INTERVAL;VALUE=DURATION:PT1H
X-Robots-Tag:noindex
X-PUBLISHED-TTL:PT1H
BEGIN:VTIMEZONE
TZID:America/Toronto
BEGIN:DAYLIGHT
TZOFFSETFROM:-0500
TZOFFSETTO:-0400
TZNAME:EDT
DTSTART:20240310T070000
END:DAYLIGHT
BEGIN:STANDARD
TZOFFSETFROM:-0400
TZOFFSETTO:-0500
TZNAME:EST
DTSTART:20241103T060000
END:STANDARD
BEGIN:DAYLIGHT
TZOFFSETFROM:-0500
TZOFFSETTO:-0400
TZNAME:EDT
DTSTART:20250309T070000
END:DAYLIGHT
BEGIN:STANDARD
TZOFFSETFROM:-0400
TZOFFSETTO:-0500
TZNAME:EST
DTSTART:20251102T060000
END:STANDARD
BEGIN:DAYLIGHT
TZOFFSETFROM:-0500
TZOFFSETTO:-0400
TZNAME:EDT
DTSTART:20260308T070000
END:DAYLIGHT
BEGIN:STANDARD
TZOFFSETFROM:-0400
TZOFFSETTO:-0500
TZNAME:EST
DTSTART:20261101T060000
END:STANDARD
END:VTIMEZONE
BEGIN:VEVENT
DTSTART;TZID=America/Toronto:20250814T100000
DTEND;TZID=America/Toronto:20250814T110000
DTSTAMP:20260419T193327
CREATED:20250812T174018Z
LAST-MODIFIED:20250812T174849Z
UID:6318-1755165600-1755169200@epic.utoronto.ca
SUMMARY:TIFA-mediated detection of pathogenic bacteria
DESCRIPTION:Announcing the PhD defence seminar of EPIC trainee\, Victoria Gillmore. \nGillmore is supervised by EPIC member Scott Gray-Owen (molecular genetics; Temerty Faculty of Medicine) \nDefence title: TIFA-mediated detection of pathogenic bacteria \nDate and time: Thursday\, August 14th\, 10 AM \nLocation: MSB 4171
URL:https://epic.utoronto.ca/event/tifa-mediated-detection-of-pathogenic-bacteria/
LOCATION:MSB 4171\, Medical Sciences Building\, 1 King's College Circle\, Toronto\, ON\, M5S 3K3\, Canada
CATEGORIES:In-person,Seminar
ATTACH;FMTTYPE=image/png:https://epic.utoronto.ca/wp-content/uploads/2025/08/Victoria-Gillmore-defence-edited-v2.png
END:VEVENT
BEGIN:VEVENT
DTSTART;TZID=America/Toronto:20250814T150000
DTEND;TZID=America/Toronto:20250814T160000
DTSTAMP:20260419T193327
CREATED:20250812T181304Z
LAST-MODIFIED:20250812T181304Z
UID:6323-1755183600-1755187200@epic.utoronto.ca
SUMMARY:Inflammatory signaling in blood cancers
DESCRIPTION:Organized by the department of molecular genetics and hosted by EPIC member Scott Gray-Owen\, this seminar features a talk by Daniel Starczynowski. \nDr. Starczynowski’s short bio: \nDr. Starczynowski is the director of the Advanced Leukemia Therapies and Research Center and a professor at Cincinnati Children’s Hospital Medical Center. His research is focused on investigating the molecular and cellular basis of hematologic malignancies with the goal to advance novel therapeutic strategies. \nIn his presentation\, he will share recent research findings that link microbial-derived sugar metabolites to the growth and multiplication of leukemia cells. \nTalk title: Inflammatory signaling in blood cancers \nDate and time: Thursday\, August 14th\, 3 PM \nLocation: MSB 2170 \n 
URL:https://epic.utoronto.ca/event/inflammatory-signaling-in-blood-cancers/
LOCATION:MSB 2170\, 1 King's College Circle\, Toronto\, ON\, M5S 1A8\, Canada
CATEGORIES:In-person,Seminar
ATTACH;FMTTYPE=image/png:https://epic.utoronto.ca/wp-content/uploads/2025/08/DANIEL-STARCZYNOWSKI-seminar-edited.png
END:VEVENT
BEGIN:VEVENT
DTSTART;TZID=America/Toronto:20250825T080000
DTEND;TZID=America/Toronto:20250829T170000
DTSTAMP:20260419T193327
CREATED:20250704T205027Z
LAST-MODIFIED:20250704T205027Z
UID:6216-1756108800-1756486800@epic.utoronto.ca
SUMMARY:Joint Trainee Workshop-Symposium CAN-AMR-Net & COHTPEZ
DESCRIPTION:The Canadian One Health Training Program on Emerging Zoonoses (COHTPEZ) and CAN-AMR-Net are co-hosting a workshop-symposium at the Campus MIL\, University of Montreal between August 25th and 29th. The event includes workshops\, panels\, and opportunities to present research and network! \nRegistration and attendance are free for trainees. Register here. \nTrainees (graduate students\, postdoctoral fellows and research assistants/associates) engaged in AMR research and interested in attending the workshop can apply for the CAN-AMR-Net Travel Awards. \nFor details and to apply\, please visit the CAN-AMR-Net webpage\, here. \nApplication deadline to considered for the travel awards is July 15th\, 2025!
URL:https://epic.utoronto.ca/event/joint-trainee-workshop-symposium-can-amr-net-cohtpez/
LOCATION:Campus MIL\, University of Montreal
ATTACH;FMTTYPE=image/jpeg:https://epic.utoronto.ca/wp-content/uploads/2025/07/CAN-AMR-Net-trainee-travel-awards.jpg
END:VEVENT
BEGIN:VEVENT
DTSTART;TZID=America/Toronto:20250830T093000
DTEND;TZID=America/Toronto:20250830T160000
DTSTAMP:20260419T193327
CREATED:20250704T193009Z
LAST-MODIFIED:20250704T212918Z
UID:6213-1756546200-1756569600@epic.utoronto.ca
SUMMARY:TRPEx: Innovation in Action
DESCRIPTION:Organized by the students in the Translational Research Program\, this one-day\, in-person conference is designed to bring together artists and scientists to collaboratively innovate in healthcare. \nThe event includes inspiring panel conversations\, creative collaborations\, artwork showcases\, and meaningful networking. \nDate and time: August 30\, 9:30 AM – 4:00 PM \nLocation: Hart House \nFor more details and to register\, please visit the eventpage.
URL:https://epic.utoronto.ca/event/trpex-innovation-in-action/
LOCATION:Hart House\, 7 Hart House Circle\, Toronto\, ON\, M5S3H3\, Canada
CATEGORIES:Conference,In-person
ATTACH;FMTTYPE=image/png:https://epic.utoronto.ca/wp-content/uploads/2025/07/TRPEx-Banner-Aug-30-2025.png
END:VEVENT
END:VCALENDAR